BEGIN:VCALENDAR
VERSION:2.0
PRODID:-//Luxury Resort in Phoenix - ECPv6.10.1.1//NONSGML v1.0//EN
CALSCALE:GREGORIAN
METHOD:PUBLISH
X-WR-CALNAME:Luxury Resort in Phoenix
X-ORIGINAL-URL:https://www.arizonabiltmore.com
X-WR-CALDESC:Events for Luxury Resort in Phoenix
REFRESH-INTERVAL;VALUE=DURATION:PT1H
X-Robots-Tag:noindex
X-PUBLISHED-TTL:PT1H
BEGIN:VTIMEZONE
TZID:America/Phoenix
BEGIN:STANDARD
TZOFFSETFROM:-0700
TZOFFSETTO:-0700
TZNAME:MST
DTSTART:20260101T000000
END:STANDARD
END:VTIMEZONE
BEGIN:VEVENT
DTSTART;TZID=America/Phoenix:20260422T150000
DTEND;TZID=America/Phoenix:20260422T163000
DTSTAMP:20260423T031021
CREATED:20251126T214517Z
LAST-MODIFIED:20260422T205817Z
UID:10085950-1776870000-1776875400@www.arizonabiltmore.com
SUMMARY:History Tour
DESCRIPTION:Embark on a journey through time at the Arizona Biltmore History Tour. Join our passionate historians as they guide you through the rich and storied past of this iconic landmark\, uncovering fascinating moments and architectural details that have shaped its legacy. Explore the elegant halls and thoughtfully curated spaces\, each revealing stories of innovation\, culture\, and timeless design. Immerse yourself in the refined atmosphere and enduring charm that define the Arizona Biltmore. Secure your spot for an unforgettable experience of discovery and history.
URL:https://www.arizonabiltmore.com/activities/arizona-biltmore-history-tour-4-2-2/2026-04-22/
LOCATION:Lobby
CATEGORIES:Educational
ATTACH;FMTTYPE=image/jpeg:https://www.arizonabiltmore.com/wp-content/uploads/2022/01/Biltmore-Entrance-0266-large.jpg
END:VEVENT
BEGIN:VEVENT
DTSTART;TZID=America/Phoenix:20260418T160000
DTEND;TZID=America/Phoenix:20260418T173000
DTSTAMP:20260423T031021
CREATED:20260107T174046Z
LAST-MODIFIED:20260311T210020Z
UID:10075907-1776528000-1776533400@www.arizonabiltmore.com
SUMMARY:Happy Hour History Tour
DESCRIPTION:Embark on a journey through time at the Arizona Biltmore Happy Hour History Tour—an engaging way to kick off your evening. Join our passionate historians as they guide you through the rich and storied past of this iconic landmark\, revealing fascinating highlights that have shaped its legacy. Explore the elegant halls and architectural details that tell the story of the Arizona Biltmore’s enduring charm and cultural significance. After the tour\, continue the experience with a visit to Wright’s Bar\, where you can enjoy the renowned Tequila Sunrise cocktail and toast to history coming to life in every sip.
URL:https://www.arizonabiltmore.com/activities/happy-hour-holiday-history-tour-2-2-2-2/2026-04-18/
LOCATION:Lobby
CATEGORIES:Cocktails,Educational
ATTACH;FMTTYPE=image/jpeg:https://www.arizonabiltmore.com/wp-content/uploads/2022/01/Biltmore-Entrance-0266-large.jpg
END:VEVENT
BEGIN:VEVENT
DTSTART;TZID=America/Phoenix:20260417T160000
DTEND;TZID=America/Phoenix:20260417T173000
DTSTAMP:20260423T031021
CREATED:20260107T174046Z
LAST-MODIFIED:20260311T210020Z
UID:10081085-1776441600-1776447000@www.arizonabiltmore.com
SUMMARY:Happy Hour History Tour
DESCRIPTION:Embark on a journey through time at the Arizona Biltmore Happy Hour History Tour—an engaging way to kick off your evening. Join our passionate historians as they guide you through the rich and storied past of this iconic landmark\, revealing fascinating highlights that have shaped its legacy. Explore the elegant halls and architectural details that tell the story of the Arizona Biltmore’s enduring charm and cultural significance. After the tour\, continue the experience with a visit to Wright’s Bar\, where you can enjoy the renowned Tequila Sunrise cocktail and toast to history coming to life in every sip.
URL:https://www.arizonabiltmore.com/activities/happy-hour-holiday-history-tour-2-2-2-2/2026-04-17/
LOCATION:Lobby
CATEGORIES:Cocktails,Educational
ATTACH;FMTTYPE=image/jpeg:https://www.arizonabiltmore.com/wp-content/uploads/2022/01/Biltmore-Entrance-0266-large.jpg
END:VEVENT
BEGIN:VEVENT
DTSTART;TZID=America/Phoenix:20260417T150000
DTEND;TZID=America/Phoenix:20260417T163000
DTSTAMP:20260423T031021
CREATED:20251126T214517Z
LAST-MODIFIED:20260422T205817Z
UID:10085949-1776438000-1776443400@www.arizonabiltmore.com
SUMMARY:History Tour
DESCRIPTION:Embark on a journey through time at the Arizona Biltmore History Tour. Join our passionate historians as they guide you through the rich and storied past of this iconic landmark\, uncovering fascinating moments and architectural details that have shaped its legacy. Explore the elegant halls and thoughtfully curated spaces\, each revealing stories of innovation\, culture\, and timeless design. Immerse yourself in the refined atmosphere and enduring charm that define the Arizona Biltmore. Secure your spot for an unforgettable experience of discovery and history.
URL:https://www.arizonabiltmore.com/activities/arizona-biltmore-history-tour-4-2-2/2026-04-17/
LOCATION:Lobby
CATEGORIES:Educational
ATTACH;FMTTYPE=image/jpeg:https://www.arizonabiltmore.com/wp-content/uploads/2022/01/Biltmore-Entrance-0266-large.jpg
END:VEVENT
BEGIN:VEVENT
DTSTART;TZID=America/Phoenix:20260415T150000
DTEND;TZID=America/Phoenix:20260415T163000
DTSTAMP:20260423T031021
CREATED:20251126T214517Z
LAST-MODIFIED:20260422T205817Z
UID:10085948-1776265200-1776270600@www.arizonabiltmore.com
SUMMARY:History Tour
DESCRIPTION:Embark on a journey through time at the Arizona Biltmore History Tour. Join our passionate historians as they guide you through the rich and storied past of this iconic landmark\, uncovering fascinating moments and architectural details that have shaped its legacy. Explore the elegant halls and thoughtfully curated spaces\, each revealing stories of innovation\, culture\, and timeless design. Immerse yourself in the refined atmosphere and enduring charm that define the Arizona Biltmore. Secure your spot for an unforgettable experience of discovery and history.
URL:https://www.arizonabiltmore.com/activities/arizona-biltmore-history-tour-4-2-2/2026-04-15/
LOCATION:Lobby
CATEGORIES:Educational
ATTACH;FMTTYPE=image/jpeg:https://www.arizonabiltmore.com/wp-content/uploads/2022/01/Biltmore-Entrance-0266-large.jpg
END:VEVENT
BEGIN:VEVENT
DTSTART;TZID=America/Phoenix:20260411T160000
DTEND;TZID=America/Phoenix:20260411T173000
DTSTAMP:20260423T031021
CREATED:20260107T174046Z
LAST-MODIFIED:20260311T210020Z
UID:10075906-1775923200-1775928600@www.arizonabiltmore.com
SUMMARY:Happy Hour History Tour
DESCRIPTION:Embark on a journey through time at the Arizona Biltmore Happy Hour History Tour—an engaging way to kick off your evening. Join our passionate historians as they guide you through the rich and storied past of this iconic landmark\, revealing fascinating highlights that have shaped its legacy. Explore the elegant halls and architectural details that tell the story of the Arizona Biltmore’s enduring charm and cultural significance. After the tour\, continue the experience with a visit to Wright’s Bar\, where you can enjoy the renowned Tequila Sunrise cocktail and toast to history coming to life in every sip.
URL:https://www.arizonabiltmore.com/activities/happy-hour-holiday-history-tour-2-2-2-2/2026-04-11/
LOCATION:Lobby
CATEGORIES:Cocktails,Educational
ATTACH;FMTTYPE=image/jpeg:https://www.arizonabiltmore.com/wp-content/uploads/2022/01/Biltmore-Entrance-0266-large.jpg
END:VEVENT
BEGIN:VEVENT
DTSTART;TZID=America/Phoenix:20260410T160000
DTEND;TZID=America/Phoenix:20260410T173000
DTSTAMP:20260423T031021
CREATED:20260107T174046Z
LAST-MODIFIED:20260311T210020Z
UID:10081084-1775836800-1775842200@www.arizonabiltmore.com
SUMMARY:Happy Hour History Tour
DESCRIPTION:Embark on a journey through time at the Arizona Biltmore Happy Hour History Tour—an engaging way to kick off your evening. Join our passionate historians as they guide you through the rich and storied past of this iconic landmark\, revealing fascinating highlights that have shaped its legacy. Explore the elegant halls and architectural details that tell the story of the Arizona Biltmore’s enduring charm and cultural significance. After the tour\, continue the experience with a visit to Wright’s Bar\, where you can enjoy the renowned Tequila Sunrise cocktail and toast to history coming to life in every sip.
URL:https://www.arizonabiltmore.com/activities/happy-hour-holiday-history-tour-2-2-2-2/2026-04-10/
LOCATION:Lobby
CATEGORIES:Cocktails,Educational
ATTACH;FMTTYPE=image/jpeg:https://www.arizonabiltmore.com/wp-content/uploads/2022/01/Biltmore-Entrance-0266-large.jpg
END:VEVENT
BEGIN:VEVENT
DTSTART;TZID=America/Phoenix:20260410T150000
DTEND;TZID=America/Phoenix:20260410T163000
DTSTAMP:20260423T031021
CREATED:20251126T214517Z
LAST-MODIFIED:20260422T205817Z
UID:10085947-1775833200-1775838600@www.arizonabiltmore.com
SUMMARY:History Tour
DESCRIPTION:Embark on a journey through time at the Arizona Biltmore History Tour. Join our passionate historians as they guide you through the rich and storied past of this iconic landmark\, uncovering fascinating moments and architectural details that have shaped its legacy. Explore the elegant halls and thoughtfully curated spaces\, each revealing stories of innovation\, culture\, and timeless design. Immerse yourself in the refined atmosphere and enduring charm that define the Arizona Biltmore. Secure your spot for an unforgettable experience of discovery and history.
URL:https://www.arizonabiltmore.com/activities/arizona-biltmore-history-tour-4-2-2/2026-04-10/
LOCATION:Lobby
CATEGORIES:Educational
ATTACH;FMTTYPE=image/jpeg:https://www.arizonabiltmore.com/wp-content/uploads/2022/01/Biltmore-Entrance-0266-large.jpg
END:VEVENT
BEGIN:VEVENT
DTSTART;TZID=America/Phoenix:20260408T150000
DTEND;TZID=America/Phoenix:20260408T163000
DTSTAMP:20260423T031021
CREATED:20251126T214517Z
LAST-MODIFIED:20260422T205817Z
UID:10085946-1775660400-1775665800@www.arizonabiltmore.com
SUMMARY:History Tour
DESCRIPTION:Embark on a journey through time at the Arizona Biltmore History Tour. Join our passionate historians as they guide you through the rich and storied past of this iconic landmark\, uncovering fascinating moments and architectural details that have shaped its legacy. Explore the elegant halls and thoughtfully curated spaces\, each revealing stories of innovation\, culture\, and timeless design. Immerse yourself in the refined atmosphere and enduring charm that define the Arizona Biltmore. Secure your spot for an unforgettable experience of discovery and history.
URL:https://www.arizonabiltmore.com/activities/arizona-biltmore-history-tour-4-2-2/2026-04-08/
LOCATION:Lobby
CATEGORIES:Educational
ATTACH;FMTTYPE=image/jpeg:https://www.arizonabiltmore.com/wp-content/uploads/2022/01/Biltmore-Entrance-0266-large.jpg
END:VEVENT
BEGIN:VEVENT
DTSTART;TZID=America/Phoenix:20260404T160000
DTEND;TZID=America/Phoenix:20260404T173000
DTSTAMP:20260423T031021
CREATED:20260107T174046Z
LAST-MODIFIED:20260311T210020Z
UID:10075905-1775318400-1775323800@www.arizonabiltmore.com
SUMMARY:Happy Hour History Tour
DESCRIPTION:Embark on a journey through time at the Arizona Biltmore Happy Hour History Tour—an engaging way to kick off your evening. Join our passionate historians as they guide you through the rich and storied past of this iconic landmark\, revealing fascinating highlights that have shaped its legacy. Explore the elegant halls and architectural details that tell the story of the Arizona Biltmore’s enduring charm and cultural significance. After the tour\, continue the experience with a visit to Wright’s Bar\, where you can enjoy the renowned Tequila Sunrise cocktail and toast to history coming to life in every sip.
URL:https://www.arizonabiltmore.com/activities/happy-hour-holiday-history-tour-2-2-2-2/2026-04-04/
LOCATION:Lobby
CATEGORIES:Cocktails,Educational
ATTACH;FMTTYPE=image/jpeg:https://www.arizonabiltmore.com/wp-content/uploads/2022/01/Biltmore-Entrance-0266-large.jpg
END:VEVENT
BEGIN:VEVENT
DTSTART;TZID=America/Phoenix:20260403T160000
DTEND;TZID=America/Phoenix:20260403T173000
DTSTAMP:20260423T031021
CREATED:20260107T174046Z
LAST-MODIFIED:20260311T210020Z
UID:10081083-1775232000-1775237400@www.arizonabiltmore.com
SUMMARY:Happy Hour History Tour
DESCRIPTION:Embark on a journey through time at the Arizona Biltmore Happy Hour History Tour—an engaging way to kick off your evening. Join our passionate historians as they guide you through the rich and storied past of this iconic landmark\, revealing fascinating highlights that have shaped its legacy. Explore the elegant halls and architectural details that tell the story of the Arizona Biltmore’s enduring charm and cultural significance. After the tour\, continue the experience with a visit to Wright’s Bar\, where you can enjoy the renowned Tequila Sunrise cocktail and toast to history coming to life in every sip.
URL:https://www.arizonabiltmore.com/activities/happy-hour-holiday-history-tour-2-2-2-2/2026-04-03/
LOCATION:Lobby
CATEGORIES:Cocktails,Educational
ATTACH;FMTTYPE=image/jpeg:https://www.arizonabiltmore.com/wp-content/uploads/2022/01/Biltmore-Entrance-0266-large.jpg
END:VEVENT
BEGIN:VEVENT
DTSTART;TZID=America/Phoenix:20260403T150000
DTEND;TZID=America/Phoenix:20260403T163000
DTSTAMP:20260423T031021
CREATED:20251126T214517Z
LAST-MODIFIED:20260422T205817Z
UID:10085945-1775228400-1775233800@www.arizonabiltmore.com
SUMMARY:History Tour
DESCRIPTION:Embark on a journey through time at the Arizona Biltmore History Tour. Join our passionate historians as they guide you through the rich and storied past of this iconic landmark\, uncovering fascinating moments and architectural details that have shaped its legacy. Explore the elegant halls and thoughtfully curated spaces\, each revealing stories of innovation\, culture\, and timeless design. Immerse yourself in the refined atmosphere and enduring charm that define the Arizona Biltmore. Secure your spot for an unforgettable experience of discovery and history.
URL:https://www.arizonabiltmore.com/activities/arizona-biltmore-history-tour-4-2-2/2026-04-03/
LOCATION:Lobby
CATEGORIES:Educational
ATTACH;FMTTYPE=image/jpeg:https://www.arizonabiltmore.com/wp-content/uploads/2022/01/Biltmore-Entrance-0266-large.jpg
END:VEVENT
BEGIN:VEVENT
DTSTART;TZID=America/Phoenix:20260401T150000
DTEND;TZID=America/Phoenix:20260401T163000
DTSTAMP:20260423T031021
CREATED:20251126T214517Z
LAST-MODIFIED:20260422T205817Z
UID:10085944-1775055600-1775061000@www.arizonabiltmore.com
SUMMARY:History Tour
DESCRIPTION:Embark on a journey through time at the Arizona Biltmore History Tour. Join our passionate historians as they guide you through the rich and storied past of this iconic landmark\, uncovering fascinating moments and architectural details that have shaped its legacy. Explore the elegant halls and thoughtfully curated spaces\, each revealing stories of innovation\, culture\, and timeless design. Immerse yourself in the refined atmosphere and enduring charm that define the Arizona Biltmore. Secure your spot for an unforgettable experience of discovery and history.
URL:https://www.arizonabiltmore.com/activities/arizona-biltmore-history-tour-4-2-2/2026-04-01/
LOCATION:Lobby
CATEGORIES:Educational
ATTACH;FMTTYPE=image/jpeg:https://www.arizonabiltmore.com/wp-content/uploads/2022/01/Biltmore-Entrance-0266-large.jpg
END:VEVENT
BEGIN:VEVENT
DTSTART;TZID=America/Phoenix:20260328T160000
DTEND;TZID=America/Phoenix:20260328T173000
DTSTAMP:20260423T031021
CREATED:20260107T174046Z
LAST-MODIFIED:20260311T210020Z
UID:10075732-1774713600-1774719000@www.arizonabiltmore.com
SUMMARY:Happy Hour History Tour
DESCRIPTION:Embark on a journey through time at the Arizona Biltmore Happy Hour History Tour—an engaging way to kick off your evening. Join our passionate historians as they guide you through the rich and storied past of this iconic landmark\, revealing fascinating highlights that have shaped its legacy. Explore the elegant halls and architectural details that tell the story of the Arizona Biltmore’s enduring charm and cultural significance. After the tour\, continue the experience with a visit to Wright’s Bar\, where you can enjoy the renowned Tequila Sunrise cocktail and toast to history coming to life in every sip.
URL:https://www.arizonabiltmore.com/activities/happy-hour-holiday-history-tour-2-2-2-2/2026-03-28/
LOCATION:Lobby
CATEGORIES:Cocktails,Educational
ATTACH;FMTTYPE=image/jpeg:https://www.arizonabiltmore.com/wp-content/uploads/2022/01/Biltmore-Entrance-0266-large.jpg
END:VEVENT
BEGIN:VEVENT
DTSTART;TZID=America/Phoenix:20260327T160000
DTEND;TZID=America/Phoenix:20260327T173000
DTSTAMP:20260423T031021
CREATED:20260107T174046Z
LAST-MODIFIED:20260311T210020Z
UID:10081082-1774627200-1774632600@www.arizonabiltmore.com
SUMMARY:Happy Hour History Tour
DESCRIPTION:Embark on a journey through time at the Arizona Biltmore Happy Hour History Tour—an engaging way to kick off your evening. Join our passionate historians as they guide you through the rich and storied past of this iconic landmark\, revealing fascinating highlights that have shaped its legacy. Explore the elegant halls and architectural details that tell the story of the Arizona Biltmore’s enduring charm and cultural significance. After the tour\, continue the experience with a visit to Wright’s Bar\, where you can enjoy the renowned Tequila Sunrise cocktail and toast to history coming to life in every sip.
URL:https://www.arizonabiltmore.com/activities/happy-hour-holiday-history-tour-2-2-2-2/2026-03-27/
LOCATION:Lobby
CATEGORIES:Cocktails,Educational
ATTACH;FMTTYPE=image/jpeg:https://www.arizonabiltmore.com/wp-content/uploads/2022/01/Biltmore-Entrance-0266-large.jpg
END:VEVENT
BEGIN:VEVENT
DTSTART;TZID=America/Phoenix:20260327T150000
DTEND;TZID=America/Phoenix:20260327T163000
DTSTAMP:20260423T031021
CREATED:20251126T214517Z
LAST-MODIFIED:20260422T205817Z
UID:10085943-1774623600-1774629000@www.arizonabiltmore.com
SUMMARY:History Tour
DESCRIPTION:Embark on a journey through time at the Arizona Biltmore History Tour. Join our passionate historians as they guide you through the rich and storied past of this iconic landmark\, uncovering fascinating moments and architectural details that have shaped its legacy. Explore the elegant halls and thoughtfully curated spaces\, each revealing stories of innovation\, culture\, and timeless design. Immerse yourself in the refined atmosphere and enduring charm that define the Arizona Biltmore. Secure your spot for an unforgettable experience of discovery and history.
URL:https://www.arizonabiltmore.com/activities/arizona-biltmore-history-tour-4-2-2/2026-03-27/
LOCATION:Lobby
CATEGORIES:Educational
ATTACH;FMTTYPE=image/jpeg:https://www.arizonabiltmore.com/wp-content/uploads/2022/01/Biltmore-Entrance-0266-large.jpg
END:VEVENT
BEGIN:VEVENT
DTSTART;TZID=America/Phoenix:20260325T150000
DTEND;TZID=America/Phoenix:20260325T163000
DTSTAMP:20260423T031021
CREATED:20251126T214517Z
LAST-MODIFIED:20260422T205817Z
UID:10085942-1774450800-1774456200@www.arizonabiltmore.com
SUMMARY:History Tour
DESCRIPTION:Embark on a journey through time at the Arizona Biltmore History Tour. Join our passionate historians as they guide you through the rich and storied past of this iconic landmark\, uncovering fascinating moments and architectural details that have shaped its legacy. Explore the elegant halls and thoughtfully curated spaces\, each revealing stories of innovation\, culture\, and timeless design. Immerse yourself in the refined atmosphere and enduring charm that define the Arizona Biltmore. Secure your spot for an unforgettable experience of discovery and history.
URL:https://www.arizonabiltmore.com/activities/arizona-biltmore-history-tour-4-2-2/2026-03-25/
LOCATION:Lobby
CATEGORIES:Educational
ATTACH;FMTTYPE=image/jpeg:https://www.arizonabiltmore.com/wp-content/uploads/2022/01/Biltmore-Entrance-0266-large.jpg
END:VEVENT
BEGIN:VEVENT
DTSTART;TZID=America/Phoenix:20260322T150000
DTEND;TZID=America/Phoenix:20260322T163000
DTSTAMP:20260423T031021
CREATED:20251126T214517Z
LAST-MODIFIED:20260422T205817Z
UID:10085941-1774191600-1774197000@www.arizonabiltmore.com
SUMMARY:History Tour
DESCRIPTION:Embark on a journey through time at the Arizona Biltmore History Tour. Join our passionate historians as they guide you through the rich and storied past of this iconic landmark\, uncovering fascinating moments and architectural details that have shaped its legacy. Explore the elegant halls and thoughtfully curated spaces\, each revealing stories of innovation\, culture\, and timeless design. Immerse yourself in the refined atmosphere and enduring charm that define the Arizona Biltmore. Secure your spot for an unforgettable experience of discovery and history.
URL:https://www.arizonabiltmore.com/activities/arizona-biltmore-history-tour-4-2-2/2026-03-22/
LOCATION:Lobby
CATEGORIES:Educational
ATTACH;FMTTYPE=image/jpeg:https://www.arizonabiltmore.com/wp-content/uploads/2022/01/Biltmore-Entrance-0266-large.jpg
END:VEVENT
END:VCALENDAR