BEGIN:VCALENDAR
VERSION:2.0
PRODID:-//Luxury Resort in Phoenix - ECPv6.10.1.1//NONSGML v1.0//EN
CALSCALE:GREGORIAN
METHOD:PUBLISH
X-ORIGINAL-URL:https://www.arizonabiltmore.com
X-WR-CALDESC:Events for Luxury Resort in Phoenix
REFRESH-INTERVAL;VALUE=DURATION:PT1H
X-Robots-Tag:noindex
X-PUBLISHED-TTL:PT1H
BEGIN:VTIMEZONE
TZID:America/Phoenix
BEGIN:STANDARD
TZOFFSETFROM:-0700
TZOFFSETTO:-0700
TZNAME:MST
DTSTART:20280101T000000
END:STANDARD
END:VTIMEZONE
BEGIN:VEVENT
DTSTART;TZID=America/Phoenix:20280209T103000
DTEND;TZID=America/Phoenix:20280209T113000
DTSTAMP:20260424T054337
CREATED:20251128T181749Z
LAST-MODIFIED:20260422T194256Z
UID:10083059-1833705000-1833708600@www.arizonabiltmore.com
SUMMARY:Hatha Yoga
DESCRIPTION:A foundational yoga practice combining postures and breathing techniques to create a healthy body and peaceful mind. This practice focuses on alignment\, generating strength and flexibility. Excellent for beginners as well as experienced yogis.
URL:https://www.arizonabiltmore.com/activities/hatha-yoga-2-3-2/2028-02-09/
LOCATION:The Studio
CATEGORIES:Fitness
ATTACH;FMTTYPE=image/jpeg:https://www.arizonabiltmore.com/wp-content/uploads/2021/12/Yoga-Pose-large.jpg
END:VEVENT
BEGIN:VEVENT
DTSTART;TZID=America/Phoenix:20280210T090000
DTEND;TZID=America/Phoenix:20280210T100000
DTSTAMP:20260424T054337
CREATED:20260128T192126Z
LAST-MODIFIED:20260422T191420Z
UID:10051406-1833786000-1833789600@www.arizonabiltmore.com
SUMMARY:Yoga Basics
DESCRIPTION:A foundational yoga practice combining postures and breathing techniques to create a healthy body and peaceful mind. Excellent for beginners as well as experienced practitioners. (Adults only\, Ages 16 and 17 when accompanied by an adult)
URL:https://www.arizonabiltmore.com/activities/yoga-basics-2/2028-02-10/
LOCATION:The Studio
CATEGORIES:Fitness
ATTACH;FMTTYPE=image/jpeg:https://www.arizonabiltmore.com/wp-content/uploads/2021/12/Yoga-Pose-large.jpg
END:VEVENT
BEGIN:VEVENT
DTSTART;TZID=America/Phoenix:20280210T113000
DTEND;TZID=America/Phoenix:20280210T123000
DTSTAMP:20260424T054337
CREATED:20251126T201214Z
LAST-MODIFIED:20260422T184335Z
UID:10085144-1833795000-1833798600@www.arizonabiltmore.com
SUMMARY:Yoga Stretch
DESCRIPTION:A therapeutic yoga practice combining elements from different styles of yoga; participants move through poses to stretch\, re-align\, and strengthen their bodies.
URL:https://www.arizonabiltmore.com/activities/yoga-stretch-2/2028-02-10/
LOCATION:The Studio
CATEGORIES:Fitness
ATTACH;FMTTYPE=image/jpeg:https://www.arizonabiltmore.com/wp-content/uploads/2021/12/dane-wetton-t1NEMSm1rgI-unsplash-scaled.jpg
END:VEVENT
BEGIN:VEVENT
DTSTART;TZID=America/Phoenix:20280211T100000
DTEND;TZID=America/Phoenix:20280211T110000
DTSTAMP:20260424T054337
CREATED:20251009T174228Z
LAST-MODIFIED:20260422T195022Z
UID:10052647-1833876000-1833879600@www.arizonabiltmore.com
SUMMARY:Restorative Meditation
DESCRIPTION:Breathwork\, relaxation\, and guided imagery meditation in combination with simple\, restorative poses\, facilitate the deepest levels of peace + healing.
URL:https://www.arizonabiltmore.com/activities/restorative-meditation/2028-02-11/
LOCATION:The Studio
CATEGORIES:Fitness,Spa and wellness
ATTACH;FMTTYPE=image/jpeg:https://www.arizonabiltmore.com/wp-content/uploads/2021/11/group-of-young-people-doing-yoga-on-a-yoga-mat-2021-09-02-14-56-30-utc-scaled.jpg
END:VEVENT
BEGIN:VEVENT
DTSTART;TZID=America/Phoenix:20280211T100000
DTEND;TZID=America/Phoenix:20280211T110000
DTSTAMP:20260424T054337
CREATED:20251126T194627Z
LAST-MODIFIED:20260422T002936Z
UID:10083965-1833876000-1833879600@www.arizonabiltmore.com
SUMMARY:Slow Flow Yoga
DESCRIPTION:This practice guides participants through a series of yoga poses to connect the breath with movement while promoting flexibility\, strength\, and body alignment. All experience levels welcome.
URL:https://www.arizonabiltmore.com/activities/slow-flow-yoga-2/2028-02-11/
LOCATION:The Studio
CATEGORIES:Fitness
ATTACH;FMTTYPE=image/jpeg:https://www.arizonabiltmore.com/wp-content/uploads/2021/11/group-of-young-people-doing-yoga-on-a-yoga-mat-2021-09-02-14-56-30-utc-scaled.jpg
END:VEVENT
BEGIN:VEVENT
DTSTART;TZID=America/Phoenix:20280212T073000
DTEND;TZID=America/Phoenix:20280212T083000
DTSTAMP:20260424T054337
CREATED:20251009T162405Z
LAST-MODIFIED:20260421T230014Z
UID:10076874-1833953400-1833957000@www.arizonabiltmore.com
SUMMARY:Mat Pilates
DESCRIPTION:Find your center and strengthen your body with this full-body\, low-impact workout designed to improve flexibility\, posture\, and core stability. Set in the serene surroundings of the Arizona Biltmore\, our Mat Pilates class focuses on mindful movement and controlled breathing to help you feel balanced and energized. Suitable for all fitness levels\, this guided session will leave you feeling longer\, leaner\, and more aligned—both inside and out.
URL:https://www.arizonabiltmore.com/activities/mat-pilates/2028-02-12/
LOCATION:The Studio
CATEGORIES:Fitness
ATTACH;FMTTYPE=image/jpeg:https://www.arizonabiltmore.com/wp-content/uploads/2021/11/Pilates-large.jpg
END:VEVENT
BEGIN:VEVENT
DTSTART;TZID=America/Phoenix:20280213T090000
DTEND;TZID=America/Phoenix:20280213T100000
DTSTAMP:20260424T054337
CREATED:20260108T165049Z
LAST-MODIFIED:20260422T202515Z
UID:10075379-1834045200-1834048800@www.arizonabiltmore.com
SUMMARY:TheraBand Stretch
DESCRIPTION:Full body stretch from head to toe using the TheraBand.
URL:https://www.arizonabiltmore.com/activities/theraband-stretch-2/2028-02-13/
LOCATION:The Studio
CATEGORIES:Fitness
ATTACH;FMTTYPE=image/jpeg:https://www.arizonabiltmore.com/wp-content/uploads/2025/12/4B7A4779-scaled.jpg
END:VEVENT
BEGIN:VEVENT
DTSTART;TZID=America/Phoenix:20280213T103000
DTEND;TZID=America/Phoenix:20280213T113000
DTSTAMP:20260424T054337
CREATED:20251128T181749Z
LAST-MODIFIED:20260422T194256Z
UID:10085764-1834050600-1834054200@www.arizonabiltmore.com
SUMMARY:Hatha Yoga
DESCRIPTION:A foundational yoga practice combining postures and breathing techniques to create a healthy body and peaceful mind. This practice focuses on alignment\, generating strength and flexibility. Excellent for beginners as well as experienced yogis.
URL:https://www.arizonabiltmore.com/activities/hatha-yoga-2-3-2/2028-02-13/
LOCATION:The Studio
CATEGORIES:Fitness
ATTACH;FMTTYPE=image/jpeg:https://www.arizonabiltmore.com/wp-content/uploads/2021/12/Yoga-Pose-large.jpg
END:VEVENT
BEGIN:VEVENT
DTSTART;TZID=America/Phoenix:20280214T073000
DTEND;TZID=America/Phoenix:20280214T083000
DTSTAMP:20260424T054337
CREATED:20251009T162405Z
LAST-MODIFIED:20260421T230014Z
UID:10076875-1834126200-1834129800@www.arizonabiltmore.com
SUMMARY:Mat Pilates
DESCRIPTION:Find your center and strengthen your body with this full-body\, low-impact workout designed to improve flexibility\, posture\, and core stability. Set in the serene surroundings of the Arizona Biltmore\, our Mat Pilates class focuses on mindful movement and controlled breathing to help you feel balanced and energized. Suitable for all fitness levels\, this guided session will leave you feeling longer\, leaner\, and more aligned—both inside and out.
URL:https://www.arizonabiltmore.com/activities/mat-pilates/2028-02-14/
LOCATION:The Studio
CATEGORIES:Fitness
ATTACH;FMTTYPE=image/jpeg:https://www.arizonabiltmore.com/wp-content/uploads/2021/11/Pilates-large.jpg
END:VEVENT
BEGIN:VEVENT
DTSTART;TZID=America/Phoenix:20280214T100000
DTEND;TZID=America/Phoenix:20280214T110000
DTSTAMP:20260424T054337
CREATED:20251126T194627Z
LAST-MODIFIED:20260422T002936Z
UID:10083966-1834135200-1834138800@www.arizonabiltmore.com
SUMMARY:Slow Flow Yoga
DESCRIPTION:This practice guides participants through a series of yoga poses to connect the breath with movement while promoting flexibility\, strength\, and body alignment. All experience levels welcome.
URL:https://www.arizonabiltmore.com/activities/slow-flow-yoga-2/2028-02-14/
LOCATION:The Studio
CATEGORIES:Fitness
ATTACH;FMTTYPE=image/jpeg:https://www.arizonabiltmore.com/wp-content/uploads/2021/11/group-of-young-people-doing-yoga-on-a-yoga-mat-2021-09-02-14-56-30-utc-scaled.jpg
END:VEVENT
BEGIN:VEVENT
DTSTART;TZID=America/Phoenix:20280214T113000
DTEND;TZID=America/Phoenix:20280214T123000
DTSTAMP:20260424T054337
CREATED:20251126T201214Z
LAST-MODIFIED:20260422T184335Z
UID:10085145-1834140600-1834144200@www.arizonabiltmore.com
SUMMARY:Yoga Stretch
DESCRIPTION:A therapeutic yoga practice combining elements from different styles of yoga; participants move through poses to stretch\, re-align\, and strengthen their bodies.
URL:https://www.arizonabiltmore.com/activities/yoga-stretch-2/2028-02-14/
LOCATION:The Studio
CATEGORIES:Fitness
ATTACH;FMTTYPE=image/jpeg:https://www.arizonabiltmore.com/wp-content/uploads/2021/12/dane-wetton-t1NEMSm1rgI-unsplash-scaled.jpg
END:VEVENT
BEGIN:VEVENT
DTSTART;TZID=America/Phoenix:20280215T090000
DTEND;TZID=America/Phoenix:20280215T100000
DTSTAMP:20260424T054337
CREATED:20260128T192126Z
LAST-MODIFIED:20260422T191420Z
UID:10073780-1834218000-1834221600@www.arizonabiltmore.com
SUMMARY:Yoga Basics
DESCRIPTION:A foundational yoga practice combining postures and breathing techniques to create a healthy body and peaceful mind. Excellent for beginners as well as experienced practitioners. (Adults only\, Ages 16 and 17 when accompanied by an adult)
URL:https://www.arizonabiltmore.com/activities/yoga-basics-2/2028-02-15/
LOCATION:The Studio
CATEGORIES:Fitness
ATTACH;FMTTYPE=image/jpeg:https://www.arizonabiltmore.com/wp-content/uploads/2021/12/Yoga-Pose-large.jpg
END:VEVENT
BEGIN:VEVENT
DTSTART;TZID=America/Phoenix:20280215T113000
DTEND;TZID=America/Phoenix:20280215T123000
DTSTAMP:20260424T054337
CREATED:20251126T201214Z
LAST-MODIFIED:20260422T184335Z
UID:10085146-1834227000-1834230600@www.arizonabiltmore.com
SUMMARY:Yoga Stretch
DESCRIPTION:A therapeutic yoga practice combining elements from different styles of yoga; participants move through poses to stretch\, re-align\, and strengthen their bodies.
URL:https://www.arizonabiltmore.com/activities/yoga-stretch-2/2028-02-15/
LOCATION:The Studio
CATEGORIES:Fitness
ATTACH;FMTTYPE=image/jpeg:https://www.arizonabiltmore.com/wp-content/uploads/2021/12/dane-wetton-t1NEMSm1rgI-unsplash-scaled.jpg
END:VEVENT
BEGIN:VEVENT
DTSTART;TZID=America/Phoenix:20280216T073000
DTEND;TZID=America/Phoenix:20280216T083000
DTSTAMP:20260424T054337
CREATED:20251009T162405Z
LAST-MODIFIED:20260421T230014Z
UID:10076876-1834299000-1834302600@www.arizonabiltmore.com
SUMMARY:Mat Pilates
DESCRIPTION:Find your center and strengthen your body with this full-body\, low-impact workout designed to improve flexibility\, posture\, and core stability. Set in the serene surroundings of the Arizona Biltmore\, our Mat Pilates class focuses on mindful movement and controlled breathing to help you feel balanced and energized. Suitable for all fitness levels\, this guided session will leave you feeling longer\, leaner\, and more aligned—both inside and out.
URL:https://www.arizonabiltmore.com/activities/mat-pilates/2028-02-16/
LOCATION:The Studio
CATEGORIES:Fitness
ATTACH;FMTTYPE=image/jpeg:https://www.arizonabiltmore.com/wp-content/uploads/2021/11/Pilates-large.jpg
END:VEVENT
BEGIN:VEVENT
DTSTART;TZID=America/Phoenix:20280216T103000
DTEND;TZID=America/Phoenix:20280216T113000
DTSTAMP:20260424T054337
CREATED:20251128T181749Z
LAST-MODIFIED:20260422T194256Z
UID:10083060-1834309800-1834313400@www.arizonabiltmore.com
SUMMARY:Hatha Yoga
DESCRIPTION:A foundational yoga practice combining postures and breathing techniques to create a healthy body and peaceful mind. This practice focuses on alignment\, generating strength and flexibility. Excellent for beginners as well as experienced yogis.
URL:https://www.arizonabiltmore.com/activities/hatha-yoga-2-3-2/2028-02-16/
LOCATION:The Studio
CATEGORIES:Fitness
ATTACH;FMTTYPE=image/jpeg:https://www.arizonabiltmore.com/wp-content/uploads/2021/12/Yoga-Pose-large.jpg
END:VEVENT
BEGIN:VEVENT
DTSTART;TZID=America/Phoenix:20280217T090000
DTEND;TZID=America/Phoenix:20280217T100000
DTSTAMP:20260424T054337
CREATED:20260128T192126Z
LAST-MODIFIED:20260422T191420Z
UID:10051408-1834390800-1834394400@www.arizonabiltmore.com
SUMMARY:Yoga Basics
DESCRIPTION:A foundational yoga practice combining postures and breathing techniques to create a healthy body and peaceful mind. Excellent for beginners as well as experienced practitioners. (Adults only\, Ages 16 and 17 when accompanied by an adult)
URL:https://www.arizonabiltmore.com/activities/yoga-basics-2/2028-02-17/
LOCATION:The Studio
CATEGORIES:Fitness
ATTACH;FMTTYPE=image/jpeg:https://www.arizonabiltmore.com/wp-content/uploads/2021/12/Yoga-Pose-large.jpg
END:VEVENT
BEGIN:VEVENT
DTSTART;TZID=America/Phoenix:20280217T113000
DTEND;TZID=America/Phoenix:20280217T123000
DTSTAMP:20260424T054337
CREATED:20251126T201214Z
LAST-MODIFIED:20260422T184335Z
UID:10085147-1834399800-1834403400@www.arizonabiltmore.com
SUMMARY:Yoga Stretch
DESCRIPTION:A therapeutic yoga practice combining elements from different styles of yoga; participants move through poses to stretch\, re-align\, and strengthen their bodies.
URL:https://www.arizonabiltmore.com/activities/yoga-stretch-2/2028-02-17/
LOCATION:The Studio
CATEGORIES:Fitness
ATTACH;FMTTYPE=image/jpeg:https://www.arizonabiltmore.com/wp-content/uploads/2021/12/dane-wetton-t1NEMSm1rgI-unsplash-scaled.jpg
END:VEVENT
BEGIN:VEVENT
DTSTART;TZID=America/Phoenix:20280218T100000
DTEND;TZID=America/Phoenix:20280218T110000
DTSTAMP:20260424T054337
CREATED:20251009T174228Z
LAST-MODIFIED:20260422T195022Z
UID:10052648-1834480800-1834484400@www.arizonabiltmore.com
SUMMARY:Restorative Meditation
DESCRIPTION:Breathwork\, relaxation\, and guided imagery meditation in combination with simple\, restorative poses\, facilitate the deepest levels of peace + healing.
URL:https://www.arizonabiltmore.com/activities/restorative-meditation/2028-02-18/
LOCATION:The Studio
CATEGORIES:Fitness,Spa and wellness
ATTACH;FMTTYPE=image/jpeg:https://www.arizonabiltmore.com/wp-content/uploads/2021/11/group-of-young-people-doing-yoga-on-a-yoga-mat-2021-09-02-14-56-30-utc-scaled.jpg
END:VEVENT
BEGIN:VEVENT
DTSTART;TZID=America/Phoenix:20280218T100000
DTEND;TZID=America/Phoenix:20280218T110000
DTSTAMP:20260424T054338
CREATED:20251126T194627Z
LAST-MODIFIED:20260422T002936Z
UID:10083967-1834480800-1834484400@www.arizonabiltmore.com
SUMMARY:Slow Flow Yoga
DESCRIPTION:This practice guides participants through a series of yoga poses to connect the breath with movement while promoting flexibility\, strength\, and body alignment. All experience levels welcome.
URL:https://www.arizonabiltmore.com/activities/slow-flow-yoga-2/2028-02-18/
LOCATION:The Studio
CATEGORIES:Fitness
ATTACH;FMTTYPE=image/jpeg:https://www.arizonabiltmore.com/wp-content/uploads/2021/11/group-of-young-people-doing-yoga-on-a-yoga-mat-2021-09-02-14-56-30-utc-scaled.jpg
END:VEVENT
BEGIN:VEVENT
DTSTART;TZID=America/Phoenix:20280219T073000
DTEND;TZID=America/Phoenix:20280219T083000
DTSTAMP:20260424T054338
CREATED:20251009T162405Z
LAST-MODIFIED:20260421T230014Z
UID:10076877-1834558200-1834561800@www.arizonabiltmore.com
SUMMARY:Mat Pilates
DESCRIPTION:Find your center and strengthen your body with this full-body\, low-impact workout designed to improve flexibility\, posture\, and core stability. Set in the serene surroundings of the Arizona Biltmore\, our Mat Pilates class focuses on mindful movement and controlled breathing to help you feel balanced and energized. Suitable for all fitness levels\, this guided session will leave you feeling longer\, leaner\, and more aligned—both inside and out.
URL:https://www.arizonabiltmore.com/activities/mat-pilates/2028-02-19/
LOCATION:The Studio
CATEGORIES:Fitness
ATTACH;FMTTYPE=image/jpeg:https://www.arizonabiltmore.com/wp-content/uploads/2021/11/Pilates-large.jpg
END:VEVENT
BEGIN:VEVENT
DTSTART;TZID=America/Phoenix:20280220T090000
DTEND;TZID=America/Phoenix:20280220T100000
DTSTAMP:20260424T054338
CREATED:20260108T165049Z
LAST-MODIFIED:20260422T202515Z
UID:10075380-1834650000-1834653600@www.arizonabiltmore.com
SUMMARY:TheraBand Stretch
DESCRIPTION:Full body stretch from head to toe using the TheraBand.
URL:https://www.arizonabiltmore.com/activities/theraband-stretch-2/2028-02-20/
LOCATION:The Studio
CATEGORIES:Fitness
ATTACH;FMTTYPE=image/jpeg:https://www.arizonabiltmore.com/wp-content/uploads/2025/12/4B7A4779-scaled.jpg
END:VEVENT
BEGIN:VEVENT
DTSTART;TZID=America/Phoenix:20280220T103000
DTEND;TZID=America/Phoenix:20280220T113000
DTSTAMP:20260424T054338
CREATED:20251128T181749Z
LAST-MODIFIED:20260422T194256Z
UID:10085765-1834655400-1834659000@www.arizonabiltmore.com
SUMMARY:Hatha Yoga
DESCRIPTION:A foundational yoga practice combining postures and breathing techniques to create a healthy body and peaceful mind. This practice focuses on alignment\, generating strength and flexibility. Excellent for beginners as well as experienced yogis.
URL:https://www.arizonabiltmore.com/activities/hatha-yoga-2-3-2/2028-02-20/
LOCATION:The Studio
CATEGORIES:Fitness
ATTACH;FMTTYPE=image/jpeg:https://www.arizonabiltmore.com/wp-content/uploads/2021/12/Yoga-Pose-large.jpg
END:VEVENT
BEGIN:VEVENT
DTSTART;TZID=America/Phoenix:20280221T073000
DTEND;TZID=America/Phoenix:20280221T083000
DTSTAMP:20260424T054338
CREATED:20251009T162405Z
LAST-MODIFIED:20260421T230014Z
UID:10076878-1834731000-1834734600@www.arizonabiltmore.com
SUMMARY:Mat Pilates
DESCRIPTION:Find your center and strengthen your body with this full-body\, low-impact workout designed to improve flexibility\, posture\, and core stability. Set in the serene surroundings of the Arizona Biltmore\, our Mat Pilates class focuses on mindful movement and controlled breathing to help you feel balanced and energized. Suitable for all fitness levels\, this guided session will leave you feeling longer\, leaner\, and more aligned—both inside and out.
URL:https://www.arizonabiltmore.com/activities/mat-pilates/2028-02-21/
LOCATION:The Studio
CATEGORIES:Fitness
ATTACH;FMTTYPE=image/jpeg:https://www.arizonabiltmore.com/wp-content/uploads/2021/11/Pilates-large.jpg
END:VEVENT
BEGIN:VEVENT
DTSTART;TZID=America/Phoenix:20280221T100000
DTEND;TZID=America/Phoenix:20280221T110000
DTSTAMP:20260424T054338
CREATED:20251126T194627Z
LAST-MODIFIED:20260422T002936Z
UID:10083968-1834740000-1834743600@www.arizonabiltmore.com
SUMMARY:Slow Flow Yoga
DESCRIPTION:This practice guides participants through a series of yoga poses to connect the breath with movement while promoting flexibility\, strength\, and body alignment. All experience levels welcome.
URL:https://www.arizonabiltmore.com/activities/slow-flow-yoga-2/2028-02-21/
LOCATION:The Studio
CATEGORIES:Fitness
ATTACH;FMTTYPE=image/jpeg:https://www.arizonabiltmore.com/wp-content/uploads/2021/11/group-of-young-people-doing-yoga-on-a-yoga-mat-2021-09-02-14-56-30-utc-scaled.jpg
END:VEVENT
BEGIN:VEVENT
DTSTART;TZID=America/Phoenix:20280221T113000
DTEND;TZID=America/Phoenix:20280221T123000
DTSTAMP:20260424T054338
CREATED:20251126T201214Z
LAST-MODIFIED:20260422T184335Z
UID:10085148-1834745400-1834749000@www.arizonabiltmore.com
SUMMARY:Yoga Stretch
DESCRIPTION:A therapeutic yoga practice combining elements from different styles of yoga; participants move through poses to stretch\, re-align\, and strengthen their bodies.
URL:https://www.arizonabiltmore.com/activities/yoga-stretch-2/2028-02-21/
LOCATION:The Studio
CATEGORIES:Fitness
ATTACH;FMTTYPE=image/jpeg:https://www.arizonabiltmore.com/wp-content/uploads/2021/12/dane-wetton-t1NEMSm1rgI-unsplash-scaled.jpg
END:VEVENT
BEGIN:VEVENT
DTSTART;TZID=America/Phoenix:20280222T090000
DTEND;TZID=America/Phoenix:20280222T100000
DTSTAMP:20260424T054338
CREATED:20260128T192126Z
LAST-MODIFIED:20260422T191420Z
UID:10073781-1834822800-1834826400@www.arizonabiltmore.com
SUMMARY:Yoga Basics
DESCRIPTION:A foundational yoga practice combining postures and breathing techniques to create a healthy body and peaceful mind. Excellent for beginners as well as experienced practitioners. (Adults only\, Ages 16 and 17 when accompanied by an adult)
URL:https://www.arizonabiltmore.com/activities/yoga-basics-2/2028-02-22/
LOCATION:The Studio
CATEGORIES:Fitness
ATTACH;FMTTYPE=image/jpeg:https://www.arizonabiltmore.com/wp-content/uploads/2021/12/Yoga-Pose-large.jpg
END:VEVENT
BEGIN:VEVENT
DTSTART;TZID=America/Phoenix:20280222T113000
DTEND;TZID=America/Phoenix:20280222T123000
DTSTAMP:20260424T054338
CREATED:20251126T201214Z
LAST-MODIFIED:20260422T184335Z
UID:10085149-1834831800-1834835400@www.arizonabiltmore.com
SUMMARY:Yoga Stretch
DESCRIPTION:A therapeutic yoga practice combining elements from different styles of yoga; participants move through poses to stretch\, re-align\, and strengthen their bodies.
URL:https://www.arizonabiltmore.com/activities/yoga-stretch-2/2028-02-22/
LOCATION:The Studio
CATEGORIES:Fitness
ATTACH;FMTTYPE=image/jpeg:https://www.arizonabiltmore.com/wp-content/uploads/2021/12/dane-wetton-t1NEMSm1rgI-unsplash-scaled.jpg
END:VEVENT
BEGIN:VEVENT
DTSTART;TZID=America/Phoenix:20280223T073000
DTEND;TZID=America/Phoenix:20280223T083000
DTSTAMP:20260424T054338
CREATED:20251009T162405Z
LAST-MODIFIED:20260421T230014Z
UID:10076879-1834903800-1834907400@www.arizonabiltmore.com
SUMMARY:Mat Pilates
DESCRIPTION:Find your center and strengthen your body with this full-body\, low-impact workout designed to improve flexibility\, posture\, and core stability. Set in the serene surroundings of the Arizona Biltmore\, our Mat Pilates class focuses on mindful movement and controlled breathing to help you feel balanced and energized. Suitable for all fitness levels\, this guided session will leave you feeling longer\, leaner\, and more aligned—both inside and out.
URL:https://www.arizonabiltmore.com/activities/mat-pilates/2028-02-23/
LOCATION:The Studio
CATEGORIES:Fitness
ATTACH;FMTTYPE=image/jpeg:https://www.arizonabiltmore.com/wp-content/uploads/2021/11/Pilates-large.jpg
END:VEVENT
BEGIN:VEVENT
DTSTART;TZID=America/Phoenix:20280223T103000
DTEND;TZID=America/Phoenix:20280223T113000
DTSTAMP:20260424T054338
CREATED:20251128T181749Z
LAST-MODIFIED:20260422T194256Z
UID:10083061-1834914600-1834918200@www.arizonabiltmore.com
SUMMARY:Hatha Yoga
DESCRIPTION:A foundational yoga practice combining postures and breathing techniques to create a healthy body and peaceful mind. This practice focuses on alignment\, generating strength and flexibility. Excellent for beginners as well as experienced yogis.
URL:https://www.arizonabiltmore.com/activities/hatha-yoga-2-3-2/2028-02-23/
LOCATION:The Studio
CATEGORIES:Fitness
ATTACH;FMTTYPE=image/jpeg:https://www.arizonabiltmore.com/wp-content/uploads/2021/12/Yoga-Pose-large.jpg
END:VEVENT
BEGIN:VEVENT
DTSTART;TZID=America/Phoenix:20280224T090000
DTEND;TZID=America/Phoenix:20280224T100000
DTSTAMP:20260424T054338
CREATED:20260128T192126Z
LAST-MODIFIED:20260422T191420Z
UID:10051410-1834995600-1834999200@www.arizonabiltmore.com
SUMMARY:Yoga Basics
DESCRIPTION:A foundational yoga practice combining postures and breathing techniques to create a healthy body and peaceful mind. Excellent for beginners as well as experienced practitioners. (Adults only\, Ages 16 and 17 when accompanied by an adult)
URL:https://www.arizonabiltmore.com/activities/yoga-basics-2/2028-02-24/
LOCATION:The Studio
CATEGORIES:Fitness
ATTACH;FMTTYPE=image/jpeg:https://www.arizonabiltmore.com/wp-content/uploads/2021/12/Yoga-Pose-large.jpg
END:VEVENT
END:VCALENDAR