BEGIN:VCALENDAR
VERSION:2.0
PRODID:-//Luxury Resort in Phoenix - ECPv6.10.1.1//NONSGML v1.0//EN
CALSCALE:GREGORIAN
METHOD:PUBLISH
X-WR-CALNAME:Luxury Resort in Phoenix
X-ORIGINAL-URL:https://www.arizonabiltmore.com
X-WR-CALDESC:Events for Luxury Resort in Phoenix
REFRESH-INTERVAL;VALUE=DURATION:PT1H
X-Robots-Tag:noindex
X-PUBLISHED-TTL:PT1H
BEGIN:VTIMEZONE
TZID:America/Phoenix
BEGIN:STANDARD
TZOFFSETFROM:-0700
TZOFFSETTO:-0700
TZNAME:MST
DTSTART:20280101T000000
END:STANDARD
END:VTIMEZONE
BEGIN:VEVENT
DTSTART;TZID=America/Phoenix:20280316T113000
DTEND;TZID=America/Phoenix:20280316T123000
DTSTAMP:20260424T075534
CREATED:20251126T201214Z
LAST-MODIFIED:20260422T184335Z
UID:10085159-1836819000-1836822600@www.arizonabiltmore.com
SUMMARY:Yoga Stretch
DESCRIPTION:A therapeutic yoga practice combining elements from different styles of yoga; participants move through poses to stretch\, re-align\, and strengthen their bodies.
URL:https://www.arizonabiltmore.com/activities/yoga-stretch-2/2028-03-16/
LOCATION:The Studio
CATEGORIES:Fitness
ATTACH;FMTTYPE=image/jpeg:https://www.arizonabiltmore.com/wp-content/uploads/2021/12/dane-wetton-t1NEMSm1rgI-unsplash-scaled.jpg
END:VEVENT
BEGIN:VEVENT
DTSTART;TZID=America/Phoenix:20280317T100000
DTEND;TZID=America/Phoenix:20280317T110000
DTSTAMP:20260424T075534
CREATED:20251009T174228Z
LAST-MODIFIED:20260422T195022Z
UID:10052652-1836900000-1836903600@www.arizonabiltmore.com
SUMMARY:Restorative Meditation
DESCRIPTION:Breathwork\, relaxation\, and guided imagery meditation in combination with simple\, restorative poses\, facilitate the deepest levels of peace + healing.
URL:https://www.arizonabiltmore.com/activities/restorative-meditation/2028-03-17/
LOCATION:The Studio
CATEGORIES:Fitness,Spa and wellness
ATTACH;FMTTYPE=image/jpeg:https://www.arizonabiltmore.com/wp-content/uploads/2021/11/group-of-young-people-doing-yoga-on-a-yoga-mat-2021-09-02-14-56-30-utc-scaled.jpg
END:VEVENT
BEGIN:VEVENT
DTSTART;TZID=America/Phoenix:20280317T100000
DTEND;TZID=America/Phoenix:20280317T110000
DTSTAMP:20260424T075534
CREATED:20251126T194627Z
LAST-MODIFIED:20260422T002936Z
UID:10083975-1836900000-1836903600@www.arizonabiltmore.com
SUMMARY:Slow Flow Yoga
DESCRIPTION:This practice guides participants through a series of yoga poses to connect the breath with movement while promoting flexibility\, strength\, and body alignment. All experience levels welcome.
URL:https://www.arizonabiltmore.com/activities/slow-flow-yoga-2/2028-03-17/
LOCATION:The Studio
CATEGORIES:Fitness
ATTACH;FMTTYPE=image/jpeg:https://www.arizonabiltmore.com/wp-content/uploads/2021/11/group-of-young-people-doing-yoga-on-a-yoga-mat-2021-09-02-14-56-30-utc-scaled.jpg
END:VEVENT
BEGIN:VEVENT
DTSTART;TZID=America/Phoenix:20280318T073000
DTEND;TZID=America/Phoenix:20280318T083000
DTSTAMP:20260424T075534
CREATED:20251009T162405Z
LAST-MODIFIED:20260421T230014Z
UID:10076889-1836977400-1836981000@www.arizonabiltmore.com
SUMMARY:Mat Pilates
DESCRIPTION:Find your center and strengthen your body with this full-body\, low-impact workout designed to improve flexibility\, posture\, and core stability. Set in the serene surroundings of the Arizona Biltmore\, our Mat Pilates class focuses on mindful movement and controlled breathing to help you feel balanced and energized. Suitable for all fitness levels\, this guided session will leave you feeling longer\, leaner\, and more aligned—both inside and out.
URL:https://www.arizonabiltmore.com/activities/mat-pilates/2028-03-18/
LOCATION:The Studio
CATEGORIES:Fitness
ATTACH;FMTTYPE=image/jpeg:https://www.arizonabiltmore.com/wp-content/uploads/2021/11/Pilates-large.jpg
END:VEVENT
BEGIN:VEVENT
DTSTART;TZID=America/Phoenix:20280319T090000
DTEND;TZID=America/Phoenix:20280319T100000
DTSTAMP:20260424T075534
CREATED:20260108T165049Z
LAST-MODIFIED:20260422T202515Z
UID:10075384-1837069200-1837072800@www.arizonabiltmore.com
SUMMARY:TheraBand Stretch
DESCRIPTION:Full body stretch from head to toe using the TheraBand.
URL:https://www.arizonabiltmore.com/activities/theraband-stretch-2/2028-03-19/
LOCATION:The Studio
CATEGORIES:Fitness
ATTACH;FMTTYPE=image/jpeg:https://www.arizonabiltmore.com/wp-content/uploads/2025/12/4B7A4779-scaled.jpg
END:VEVENT
BEGIN:VEVENT
DTSTART;TZID=America/Phoenix:20280319T103000
DTEND;TZID=America/Phoenix:20280319T113000
DTSTAMP:20260424T075534
CREATED:20251128T181749Z
LAST-MODIFIED:20260422T194256Z
UID:10085769-1837074600-1837078200@www.arizonabiltmore.com
SUMMARY:Hatha Yoga
DESCRIPTION:A foundational yoga practice combining postures and breathing techniques to create a healthy body and peaceful mind. This practice focuses on alignment\, generating strength and flexibility. Excellent for beginners as well as experienced yogis.
URL:https://www.arizonabiltmore.com/activities/hatha-yoga-2-3-2/2028-03-19/
LOCATION:The Studio
CATEGORIES:Fitness
ATTACH;FMTTYPE=image/jpeg:https://www.arizonabiltmore.com/wp-content/uploads/2021/12/Yoga-Pose-large.jpg
END:VEVENT
BEGIN:VEVENT
DTSTART;TZID=America/Phoenix:20280320T073000
DTEND;TZID=America/Phoenix:20280320T083000
DTSTAMP:20260424T075534
CREATED:20251009T162405Z
LAST-MODIFIED:20260421T230014Z
UID:10076890-1837150200-1837153800@www.arizonabiltmore.com
SUMMARY:Mat Pilates
DESCRIPTION:Find your center and strengthen your body with this full-body\, low-impact workout designed to improve flexibility\, posture\, and core stability. Set in the serene surroundings of the Arizona Biltmore\, our Mat Pilates class focuses on mindful movement and controlled breathing to help you feel balanced and energized. Suitable for all fitness levels\, this guided session will leave you feeling longer\, leaner\, and more aligned—both inside and out.
URL:https://www.arizonabiltmore.com/activities/mat-pilates/2028-03-20/
LOCATION:The Studio
CATEGORIES:Fitness
ATTACH;FMTTYPE=image/jpeg:https://www.arizonabiltmore.com/wp-content/uploads/2021/11/Pilates-large.jpg
END:VEVENT
BEGIN:VEVENT
DTSTART;TZID=America/Phoenix:20280320T100000
DTEND;TZID=America/Phoenix:20280320T110000
DTSTAMP:20260424T075534
CREATED:20251126T194627Z
LAST-MODIFIED:20260422T002936Z
UID:10083976-1837159200-1837162800@www.arizonabiltmore.com
SUMMARY:Slow Flow Yoga
DESCRIPTION:This practice guides participants through a series of yoga poses to connect the breath with movement while promoting flexibility\, strength\, and body alignment. All experience levels welcome.
URL:https://www.arizonabiltmore.com/activities/slow-flow-yoga-2/2028-03-20/
LOCATION:The Studio
CATEGORIES:Fitness
ATTACH;FMTTYPE=image/jpeg:https://www.arizonabiltmore.com/wp-content/uploads/2021/11/group-of-young-people-doing-yoga-on-a-yoga-mat-2021-09-02-14-56-30-utc-scaled.jpg
END:VEVENT
BEGIN:VEVENT
DTSTART;TZID=America/Phoenix:20280320T113000
DTEND;TZID=America/Phoenix:20280320T123000
DTSTAMP:20260424T075534
CREATED:20251126T201214Z
LAST-MODIFIED:20260422T184335Z
UID:10085160-1837164600-1837168200@www.arizonabiltmore.com
SUMMARY:Yoga Stretch
DESCRIPTION:A therapeutic yoga practice combining elements from different styles of yoga; participants move through poses to stretch\, re-align\, and strengthen their bodies.
URL:https://www.arizonabiltmore.com/activities/yoga-stretch-2/2028-03-20/
LOCATION:The Studio
CATEGORIES:Fitness
ATTACH;FMTTYPE=image/jpeg:https://www.arizonabiltmore.com/wp-content/uploads/2021/12/dane-wetton-t1NEMSm1rgI-unsplash-scaled.jpg
END:VEVENT
BEGIN:VEVENT
DTSTART;TZID=America/Phoenix:20280321T090000
DTEND;TZID=America/Phoenix:20280321T100000
DTSTAMP:20260424T075534
CREATED:20260128T192126Z
LAST-MODIFIED:20260422T191420Z
UID:10073785-1837242000-1837245600@www.arizonabiltmore.com
SUMMARY:Yoga Basics
DESCRIPTION:A foundational yoga practice combining postures and breathing techniques to create a healthy body and peaceful mind. Excellent for beginners as well as experienced practitioners. (Adults only\, Ages 16 and 17 when accompanied by an adult)
URL:https://www.arizonabiltmore.com/activities/yoga-basics-2/2028-03-21/
LOCATION:The Studio
CATEGORIES:Fitness
ATTACH;FMTTYPE=image/jpeg:https://www.arizonabiltmore.com/wp-content/uploads/2021/12/Yoga-Pose-large.jpg
END:VEVENT
BEGIN:VEVENT
DTSTART;TZID=America/Phoenix:20280321T113000
DTEND;TZID=America/Phoenix:20280321T123000
DTSTAMP:20260424T075534
CREATED:20251126T201214Z
LAST-MODIFIED:20260422T184335Z
UID:10085161-1837251000-1837254600@www.arizonabiltmore.com
SUMMARY:Yoga Stretch
DESCRIPTION:A therapeutic yoga practice combining elements from different styles of yoga; participants move through poses to stretch\, re-align\, and strengthen their bodies.
URL:https://www.arizonabiltmore.com/activities/yoga-stretch-2/2028-03-21/
LOCATION:The Studio
CATEGORIES:Fitness
ATTACH;FMTTYPE=image/jpeg:https://www.arizonabiltmore.com/wp-content/uploads/2021/12/dane-wetton-t1NEMSm1rgI-unsplash-scaled.jpg
END:VEVENT
BEGIN:VEVENT
DTSTART;TZID=America/Phoenix:20280322T073000
DTEND;TZID=America/Phoenix:20280322T083000
DTSTAMP:20260424T075534
CREATED:20251009T162405Z
LAST-MODIFIED:20260421T230014Z
UID:10076891-1837323000-1837326600@www.arizonabiltmore.com
SUMMARY:Mat Pilates
DESCRIPTION:Find your center and strengthen your body with this full-body\, low-impact workout designed to improve flexibility\, posture\, and core stability. Set in the serene surroundings of the Arizona Biltmore\, our Mat Pilates class focuses on mindful movement and controlled breathing to help you feel balanced and energized. Suitable for all fitness levels\, this guided session will leave you feeling longer\, leaner\, and more aligned—both inside and out.
URL:https://www.arizonabiltmore.com/activities/mat-pilates/2028-03-22/
LOCATION:The Studio
CATEGORIES:Fitness
ATTACH;FMTTYPE=image/jpeg:https://www.arizonabiltmore.com/wp-content/uploads/2021/11/Pilates-large.jpg
END:VEVENT
BEGIN:VEVENT
DTSTART;TZID=America/Phoenix:20280322T103000
DTEND;TZID=America/Phoenix:20280322T113000
DTSTAMP:20260424T075534
CREATED:20251128T181749Z
LAST-MODIFIED:20260422T194256Z
UID:10083065-1837333800-1837337400@www.arizonabiltmore.com
SUMMARY:Hatha Yoga
DESCRIPTION:A foundational yoga practice combining postures and breathing techniques to create a healthy body and peaceful mind. This practice focuses on alignment\, generating strength and flexibility. Excellent for beginners as well as experienced yogis.
URL:https://www.arizonabiltmore.com/activities/hatha-yoga-2-3-2/2028-03-22/
LOCATION:The Studio
CATEGORIES:Fitness
ATTACH;FMTTYPE=image/jpeg:https://www.arizonabiltmore.com/wp-content/uploads/2021/12/Yoga-Pose-large.jpg
END:VEVENT
BEGIN:VEVENT
DTSTART;TZID=America/Phoenix:20280323T090000
DTEND;TZID=America/Phoenix:20280323T100000
DTSTAMP:20260424T075534
CREATED:20260128T192126Z
LAST-MODIFIED:20260422T191420Z
UID:10051418-1837414800-1837418400@www.arizonabiltmore.com
SUMMARY:Yoga Basics
DESCRIPTION:A foundational yoga practice combining postures and breathing techniques to create a healthy body and peaceful mind. Excellent for beginners as well as experienced practitioners. (Adults only\, Ages 16 and 17 when accompanied by an adult)
URL:https://www.arizonabiltmore.com/activities/yoga-basics-2/2028-03-23/
LOCATION:The Studio
CATEGORIES:Fitness
ATTACH;FMTTYPE=image/jpeg:https://www.arizonabiltmore.com/wp-content/uploads/2021/12/Yoga-Pose-large.jpg
END:VEVENT
BEGIN:VEVENT
DTSTART;TZID=America/Phoenix:20280323T113000
DTEND;TZID=America/Phoenix:20280323T123000
DTSTAMP:20260424T075534
CREATED:20251126T201214Z
LAST-MODIFIED:20260422T184335Z
UID:10085162-1837423800-1837427400@www.arizonabiltmore.com
SUMMARY:Yoga Stretch
DESCRIPTION:A therapeutic yoga practice combining elements from different styles of yoga; participants move through poses to stretch\, re-align\, and strengthen their bodies.
URL:https://www.arizonabiltmore.com/activities/yoga-stretch-2/2028-03-23/
LOCATION:The Studio
CATEGORIES:Fitness
ATTACH;FMTTYPE=image/jpeg:https://www.arizonabiltmore.com/wp-content/uploads/2021/12/dane-wetton-t1NEMSm1rgI-unsplash-scaled.jpg
END:VEVENT
BEGIN:VEVENT
DTSTART;TZID=America/Phoenix:20280324T100000
DTEND;TZID=America/Phoenix:20280324T110000
DTSTAMP:20260424T075534
CREATED:20251009T174228Z
LAST-MODIFIED:20260422T195022Z
UID:10052653-1837504800-1837508400@www.arizonabiltmore.com
SUMMARY:Restorative Meditation
DESCRIPTION:Breathwork\, relaxation\, and guided imagery meditation in combination with simple\, restorative poses\, facilitate the deepest levels of peace + healing.
URL:https://www.arizonabiltmore.com/activities/restorative-meditation/2028-03-24/
LOCATION:The Studio
CATEGORIES:Fitness,Spa and wellness
ATTACH;FMTTYPE=image/jpeg:https://www.arizonabiltmore.com/wp-content/uploads/2021/11/group-of-young-people-doing-yoga-on-a-yoga-mat-2021-09-02-14-56-30-utc-scaled.jpg
END:VEVENT
BEGIN:VEVENT
DTSTART;TZID=America/Phoenix:20280324T100000
DTEND;TZID=America/Phoenix:20280324T110000
DTSTAMP:20260424T075534
CREATED:20251126T194627Z
LAST-MODIFIED:20260422T002936Z
UID:10083977-1837504800-1837508400@www.arizonabiltmore.com
SUMMARY:Slow Flow Yoga
DESCRIPTION:This practice guides participants through a series of yoga poses to connect the breath with movement while promoting flexibility\, strength\, and body alignment. All experience levels welcome.
URL:https://www.arizonabiltmore.com/activities/slow-flow-yoga-2/2028-03-24/
LOCATION:The Studio
CATEGORIES:Fitness
ATTACH;FMTTYPE=image/jpeg:https://www.arizonabiltmore.com/wp-content/uploads/2021/11/group-of-young-people-doing-yoga-on-a-yoga-mat-2021-09-02-14-56-30-utc-scaled.jpg
END:VEVENT
BEGIN:VEVENT
DTSTART;TZID=America/Phoenix:20280325T073000
DTEND;TZID=America/Phoenix:20280325T083000
DTSTAMP:20260424T075534
CREATED:20251009T162405Z
LAST-MODIFIED:20260421T230014Z
UID:10076892-1837582200-1837585800@www.arizonabiltmore.com
SUMMARY:Mat Pilates
DESCRIPTION:Find your center and strengthen your body with this full-body\, low-impact workout designed to improve flexibility\, posture\, and core stability. Set in the serene surroundings of the Arizona Biltmore\, our Mat Pilates class focuses on mindful movement and controlled breathing to help you feel balanced and energized. Suitable for all fitness levels\, this guided session will leave you feeling longer\, leaner\, and more aligned—both inside and out.
URL:https://www.arizonabiltmore.com/activities/mat-pilates/2028-03-25/
LOCATION:The Studio
CATEGORIES:Fitness
ATTACH;FMTTYPE=image/jpeg:https://www.arizonabiltmore.com/wp-content/uploads/2021/11/Pilates-large.jpg
END:VEVENT
BEGIN:VEVENT
DTSTART;TZID=America/Phoenix:20280326T090000
DTEND;TZID=America/Phoenix:20280326T100000
DTSTAMP:20260424T075534
CREATED:20260108T165049Z
LAST-MODIFIED:20260422T202515Z
UID:10075385-1837674000-1837677600@www.arizonabiltmore.com
SUMMARY:TheraBand Stretch
DESCRIPTION:Full body stretch from head to toe using the TheraBand.
URL:https://www.arizonabiltmore.com/activities/theraband-stretch-2/2028-03-26/
LOCATION:The Studio
CATEGORIES:Fitness
ATTACH;FMTTYPE=image/jpeg:https://www.arizonabiltmore.com/wp-content/uploads/2025/12/4B7A4779-scaled.jpg
END:VEVENT
BEGIN:VEVENT
DTSTART;TZID=America/Phoenix:20280326T103000
DTEND;TZID=America/Phoenix:20280326T113000
DTSTAMP:20260424T075534
CREATED:20251128T181749Z
LAST-MODIFIED:20260422T194256Z
UID:10085770-1837679400-1837683000@www.arizonabiltmore.com
SUMMARY:Hatha Yoga
DESCRIPTION:A foundational yoga practice combining postures and breathing techniques to create a healthy body and peaceful mind. This practice focuses on alignment\, generating strength and flexibility. Excellent for beginners as well as experienced yogis.
URL:https://www.arizonabiltmore.com/activities/hatha-yoga-2-3-2/2028-03-26/
LOCATION:The Studio
CATEGORIES:Fitness
ATTACH;FMTTYPE=image/jpeg:https://www.arizonabiltmore.com/wp-content/uploads/2021/12/Yoga-Pose-large.jpg
END:VEVENT
BEGIN:VEVENT
DTSTART;TZID=America/Phoenix:20280327T073000
DTEND;TZID=America/Phoenix:20280327T083000
DTSTAMP:20260424T075534
CREATED:20251009T162405Z
LAST-MODIFIED:20260421T230014Z
UID:10076893-1837755000-1837758600@www.arizonabiltmore.com
SUMMARY:Mat Pilates
DESCRIPTION:Find your center and strengthen your body with this full-body\, low-impact workout designed to improve flexibility\, posture\, and core stability. Set in the serene surroundings of the Arizona Biltmore\, our Mat Pilates class focuses on mindful movement and controlled breathing to help you feel balanced and energized. Suitable for all fitness levels\, this guided session will leave you feeling longer\, leaner\, and more aligned—both inside and out.
URL:https://www.arizonabiltmore.com/activities/mat-pilates/2028-03-27/
LOCATION:The Studio
CATEGORIES:Fitness
ATTACH;FMTTYPE=image/jpeg:https://www.arizonabiltmore.com/wp-content/uploads/2021/11/Pilates-large.jpg
END:VEVENT
BEGIN:VEVENT
DTSTART;TZID=America/Phoenix:20280327T100000
DTEND;TZID=America/Phoenix:20280327T110000
DTSTAMP:20260424T075534
CREATED:20251126T194627Z
LAST-MODIFIED:20260422T002936Z
UID:10083978-1837764000-1837767600@www.arizonabiltmore.com
SUMMARY:Slow Flow Yoga
DESCRIPTION:This practice guides participants through a series of yoga poses to connect the breath with movement while promoting flexibility\, strength\, and body alignment. All experience levels welcome.
URL:https://www.arizonabiltmore.com/activities/slow-flow-yoga-2/2028-03-27/
LOCATION:The Studio
CATEGORIES:Fitness
ATTACH;FMTTYPE=image/jpeg:https://www.arizonabiltmore.com/wp-content/uploads/2021/11/group-of-young-people-doing-yoga-on-a-yoga-mat-2021-09-02-14-56-30-utc-scaled.jpg
END:VEVENT
BEGIN:VEVENT
DTSTART;TZID=America/Phoenix:20280327T113000
DTEND;TZID=America/Phoenix:20280327T123000
DTSTAMP:20260424T075534
CREATED:20251126T201214Z
LAST-MODIFIED:20260422T184335Z
UID:10085163-1837769400-1837773000@www.arizonabiltmore.com
SUMMARY:Yoga Stretch
DESCRIPTION:A therapeutic yoga practice combining elements from different styles of yoga; participants move through poses to stretch\, re-align\, and strengthen their bodies.
URL:https://www.arizonabiltmore.com/activities/yoga-stretch-2/2028-03-27/
LOCATION:The Studio
CATEGORIES:Fitness
ATTACH;FMTTYPE=image/jpeg:https://www.arizonabiltmore.com/wp-content/uploads/2021/12/dane-wetton-t1NEMSm1rgI-unsplash-scaled.jpg
END:VEVENT
BEGIN:VEVENT
DTSTART;TZID=America/Phoenix:20280328T090000
DTEND;TZID=America/Phoenix:20280328T100000
DTSTAMP:20260424T075534
CREATED:20260128T192126Z
LAST-MODIFIED:20260422T191420Z
UID:10073786-1837846800-1837850400@www.arizonabiltmore.com
SUMMARY:Yoga Basics
DESCRIPTION:A foundational yoga practice combining postures and breathing techniques to create a healthy body and peaceful mind. Excellent for beginners as well as experienced practitioners. (Adults only\, Ages 16 and 17 when accompanied by an adult)
URL:https://www.arizonabiltmore.com/activities/yoga-basics-2/2028-03-28/
LOCATION:The Studio
CATEGORIES:Fitness
ATTACH;FMTTYPE=image/jpeg:https://www.arizonabiltmore.com/wp-content/uploads/2021/12/Yoga-Pose-large.jpg
END:VEVENT
BEGIN:VEVENT
DTSTART;TZID=America/Phoenix:20280328T113000
DTEND;TZID=America/Phoenix:20280328T123000
DTSTAMP:20260424T075534
CREATED:20251126T201214Z
LAST-MODIFIED:20260422T184335Z
UID:10085164-1837855800-1837859400@www.arizonabiltmore.com
SUMMARY:Yoga Stretch
DESCRIPTION:A therapeutic yoga practice combining elements from different styles of yoga; participants move through poses to stretch\, re-align\, and strengthen their bodies.
URL:https://www.arizonabiltmore.com/activities/yoga-stretch-2/2028-03-28/
LOCATION:The Studio
CATEGORIES:Fitness
ATTACH;FMTTYPE=image/jpeg:https://www.arizonabiltmore.com/wp-content/uploads/2021/12/dane-wetton-t1NEMSm1rgI-unsplash-scaled.jpg
END:VEVENT
BEGIN:VEVENT
DTSTART;TZID=America/Phoenix:20280329T073000
DTEND;TZID=America/Phoenix:20280329T083000
DTSTAMP:20260424T075534
CREATED:20251009T162405Z
LAST-MODIFIED:20260421T230014Z
UID:10076894-1837927800-1837931400@www.arizonabiltmore.com
SUMMARY:Mat Pilates
DESCRIPTION:Find your center and strengthen your body with this full-body\, low-impact workout designed to improve flexibility\, posture\, and core stability. Set in the serene surroundings of the Arizona Biltmore\, our Mat Pilates class focuses on mindful movement and controlled breathing to help you feel balanced and energized. Suitable for all fitness levels\, this guided session will leave you feeling longer\, leaner\, and more aligned—both inside and out.
URL:https://www.arizonabiltmore.com/activities/mat-pilates/2028-03-29/
LOCATION:The Studio
CATEGORIES:Fitness
ATTACH;FMTTYPE=image/jpeg:https://www.arizonabiltmore.com/wp-content/uploads/2021/11/Pilates-large.jpg
END:VEVENT
BEGIN:VEVENT
DTSTART;TZID=America/Phoenix:20280329T103000
DTEND;TZID=America/Phoenix:20280329T113000
DTSTAMP:20260424T075534
CREATED:20251128T181749Z
LAST-MODIFIED:20260422T194256Z
UID:10083066-1837938600-1837942200@www.arizonabiltmore.com
SUMMARY:Hatha Yoga
DESCRIPTION:A foundational yoga practice combining postures and breathing techniques to create a healthy body and peaceful mind. This practice focuses on alignment\, generating strength and flexibility. Excellent for beginners as well as experienced yogis.
URL:https://www.arizonabiltmore.com/activities/hatha-yoga-2-3-2/2028-03-29/
LOCATION:The Studio
CATEGORIES:Fitness
ATTACH;FMTTYPE=image/jpeg:https://www.arizonabiltmore.com/wp-content/uploads/2021/12/Yoga-Pose-large.jpg
END:VEVENT
BEGIN:VEVENT
DTSTART;TZID=America/Phoenix:20280330T090000
DTEND;TZID=America/Phoenix:20280330T100000
DTSTAMP:20260424T075534
CREATED:20260128T192126Z
LAST-MODIFIED:20260422T191420Z
UID:10051420-1838019600-1838023200@www.arizonabiltmore.com
SUMMARY:Yoga Basics
DESCRIPTION:A foundational yoga practice combining postures and breathing techniques to create a healthy body and peaceful mind. Excellent for beginners as well as experienced practitioners. (Adults only\, Ages 16 and 17 when accompanied by an adult)
URL:https://www.arizonabiltmore.com/activities/yoga-basics-2/2028-03-30/
LOCATION:The Studio
CATEGORIES:Fitness
ATTACH;FMTTYPE=image/jpeg:https://www.arizonabiltmore.com/wp-content/uploads/2021/12/Yoga-Pose-large.jpg
END:VEVENT
BEGIN:VEVENT
DTSTART;TZID=America/Phoenix:20280330T113000
DTEND;TZID=America/Phoenix:20280330T123000
DTSTAMP:20260424T075534
CREATED:20251126T201214Z
LAST-MODIFIED:20260422T184335Z
UID:10085165-1838028600-1838032200@www.arizonabiltmore.com
SUMMARY:Yoga Stretch
DESCRIPTION:A therapeutic yoga practice combining elements from different styles of yoga; participants move through poses to stretch\, re-align\, and strengthen their bodies.
URL:https://www.arizonabiltmore.com/activities/yoga-stretch-2/2028-03-30/
LOCATION:The Studio
CATEGORIES:Fitness
ATTACH;FMTTYPE=image/jpeg:https://www.arizonabiltmore.com/wp-content/uploads/2021/12/dane-wetton-t1NEMSm1rgI-unsplash-scaled.jpg
END:VEVENT
BEGIN:VEVENT
DTSTART;TZID=America/Phoenix:20280331T100000
DTEND;TZID=America/Phoenix:20280331T110000
DTSTAMP:20260424T075534
CREATED:20251009T174228Z
LAST-MODIFIED:20260422T195022Z
UID:10052654-1838109600-1838113200@www.arizonabiltmore.com
SUMMARY:Restorative Meditation
DESCRIPTION:Breathwork\, relaxation\, and guided imagery meditation in combination with simple\, restorative poses\, facilitate the deepest levels of peace + healing.
URL:https://www.arizonabiltmore.com/activities/restorative-meditation/2028-03-31/
LOCATION:The Studio
CATEGORIES:Fitness,Spa and wellness
ATTACH;FMTTYPE=image/jpeg:https://www.arizonabiltmore.com/wp-content/uploads/2021/11/group-of-young-people-doing-yoga-on-a-yoga-mat-2021-09-02-14-56-30-utc-scaled.jpg
END:VEVENT
END:VCALENDAR