BEGIN:VCALENDAR
VERSION:2.0
PRODID:-//Luxury Resort in Phoenix - ECPv6.10.1.1//NONSGML v1.0//EN
CALSCALE:GREGORIAN
METHOD:PUBLISH
X-ORIGINAL-URL:https://www.arizonabiltmore.com
X-WR-CALDESC:Events for Luxury Resort in Phoenix
REFRESH-INTERVAL;VALUE=DURATION:PT1H
X-Robots-Tag:noindex
X-PUBLISHED-TTL:PT1H
BEGIN:VTIMEZONE
TZID:America/Phoenix
BEGIN:STANDARD
TZOFFSETFROM:-0700
TZOFFSETTO:-0700
TZNAME:MST
DTSTART:20280101T000000
END:STANDARD
END:VTIMEZONE
BEGIN:VEVENT
DTSTART;TZID=America/Phoenix:20280529T100000
DTEND;TZID=America/Phoenix:20280529T110000
DTSTAMP:20260424T114416
CREATED:20251126T194627Z
LAST-MODIFIED:20260422T002936Z
UID:10083996-1843207200-1843210800@www.arizonabiltmore.com
SUMMARY:Slow Flow Yoga
DESCRIPTION:This practice guides participants through a series of yoga poses to connect the breath with movement while promoting flexibility\, strength\, and body alignment. All experience levels welcome.
URL:https://www.arizonabiltmore.com/activities/slow-flow-yoga-2/2028-05-29/
LOCATION:The Studio
CATEGORIES:Fitness
ATTACH;FMTTYPE=image/jpeg:https://www.arizonabiltmore.com/wp-content/uploads/2021/11/group-of-young-people-doing-yoga-on-a-yoga-mat-2021-09-02-14-56-30-utc-scaled.jpg
END:VEVENT
BEGIN:VEVENT
DTSTART;TZID=America/Phoenix:20280529T113000
DTEND;TZID=America/Phoenix:20280529T123000
DTSTAMP:20260424T114416
CREATED:20251126T201214Z
LAST-MODIFIED:20260422T184335Z
UID:10085190-1843212600-1843216200@www.arizonabiltmore.com
SUMMARY:Yoga Stretch
DESCRIPTION:A therapeutic yoga practice combining elements from different styles of yoga; participants move through poses to stretch\, re-align\, and strengthen their bodies.
URL:https://www.arizonabiltmore.com/activities/yoga-stretch-2/2028-05-29/
LOCATION:The Studio
CATEGORIES:Fitness
ATTACH;FMTTYPE=image/jpeg:https://www.arizonabiltmore.com/wp-content/uploads/2021/12/dane-wetton-t1NEMSm1rgI-unsplash-scaled.jpg
END:VEVENT
BEGIN:VEVENT
DTSTART;TZID=America/Phoenix:20280530T090000
DTEND;TZID=America/Phoenix:20280530T100000
DTSTAMP:20260424T114416
CREATED:20260128T192126Z
LAST-MODIFIED:20260422T191420Z
UID:10073795-1843290000-1843293600@www.arizonabiltmore.com
SUMMARY:Yoga Basics
DESCRIPTION:A foundational yoga practice combining postures and breathing techniques to create a healthy body and peaceful mind. Excellent for beginners as well as experienced practitioners. (Adults only\, Ages 16 and 17 when accompanied by an adult)
URL:https://www.arizonabiltmore.com/activities/yoga-basics-2/2028-05-30/
LOCATION:The Studio
CATEGORIES:Fitness
ATTACH;FMTTYPE=image/jpeg:https://www.arizonabiltmore.com/wp-content/uploads/2021/12/Yoga-Pose-large.jpg
END:VEVENT
BEGIN:VEVENT
DTSTART;TZID=America/Phoenix:20280530T113000
DTEND;TZID=America/Phoenix:20280530T123000
DTSTAMP:20260424T114416
CREATED:20251126T201214Z
LAST-MODIFIED:20260422T184335Z
UID:10085191-1843299000-1843302600@www.arizonabiltmore.com
SUMMARY:Yoga Stretch
DESCRIPTION:A therapeutic yoga practice combining elements from different styles of yoga; participants move through poses to stretch\, re-align\, and strengthen their bodies.
URL:https://www.arizonabiltmore.com/activities/yoga-stretch-2/2028-05-30/
LOCATION:The Studio
CATEGORIES:Fitness
ATTACH;FMTTYPE=image/jpeg:https://www.arizonabiltmore.com/wp-content/uploads/2021/12/dane-wetton-t1NEMSm1rgI-unsplash-scaled.jpg
END:VEVENT
BEGIN:VEVENT
DTSTART;TZID=America/Phoenix:20280531T073000
DTEND;TZID=America/Phoenix:20280531T083000
DTSTAMP:20260424T114416
CREATED:20251009T162405Z
LAST-MODIFIED:20260421T230014Z
UID:10076921-1843371000-1843374600@www.arizonabiltmore.com
SUMMARY:Mat Pilates
DESCRIPTION:Find your center and strengthen your body with this full-body\, low-impact workout designed to improve flexibility\, posture\, and core stability. Set in the serene surroundings of the Arizona Biltmore\, our Mat Pilates class focuses on mindful movement and controlled breathing to help you feel balanced and energized. Suitable for all fitness levels\, this guided session will leave you feeling longer\, leaner\, and more aligned—both inside and out.
URL:https://www.arizonabiltmore.com/activities/mat-pilates/2028-05-31/
LOCATION:The Studio
CATEGORIES:Fitness
ATTACH;FMTTYPE=image/jpeg:https://www.arizonabiltmore.com/wp-content/uploads/2021/11/Pilates-large.jpg
END:VEVENT
BEGIN:VEVENT
DTSTART;TZID=America/Phoenix:20280531T103000
DTEND;TZID=America/Phoenix:20280531T113000
DTSTAMP:20260424T114416
CREATED:20251128T181749Z
LAST-MODIFIED:20260422T194256Z
UID:10083075-1843381800-1843385400@www.arizonabiltmore.com
SUMMARY:Hatha Yoga
DESCRIPTION:A foundational yoga practice combining postures and breathing techniques to create a healthy body and peaceful mind. This practice focuses on alignment\, generating strength and flexibility. Excellent for beginners as well as experienced yogis.
URL:https://www.arizonabiltmore.com/activities/hatha-yoga-2-3-2/2028-05-31/
LOCATION:The Studio
CATEGORIES:Fitness
ATTACH;FMTTYPE=image/jpeg:https://www.arizonabiltmore.com/wp-content/uploads/2021/12/Yoga-Pose-large.jpg
END:VEVENT
BEGIN:VEVENT
DTSTART;TZID=America/Phoenix:20280601T090000
DTEND;TZID=America/Phoenix:20280601T100000
DTSTAMP:20260424T114416
CREATED:20260128T192126Z
LAST-MODIFIED:20260422T191420Z
UID:10051438-1843462800-1843466400@www.arizonabiltmore.com
SUMMARY:Yoga Basics
DESCRIPTION:A foundational yoga practice combining postures and breathing techniques to create a healthy body and peaceful mind. Excellent for beginners as well as experienced practitioners. (Adults only\, Ages 16 and 17 when accompanied by an adult)
URL:https://www.arizonabiltmore.com/activities/yoga-basics-2/2028-06-01/
LOCATION:The Studio
CATEGORIES:Fitness
ATTACH;FMTTYPE=image/jpeg:https://www.arizonabiltmore.com/wp-content/uploads/2021/12/Yoga-Pose-large.jpg
END:VEVENT
BEGIN:VEVENT
DTSTART;TZID=America/Phoenix:20280601T113000
DTEND;TZID=America/Phoenix:20280601T123000
DTSTAMP:20260424T114416
CREATED:20251126T201214Z
LAST-MODIFIED:20260422T184335Z
UID:10085192-1843471800-1843475400@www.arizonabiltmore.com
SUMMARY:Yoga Stretch
DESCRIPTION:A therapeutic yoga practice combining elements from different styles of yoga; participants move through poses to stretch\, re-align\, and strengthen their bodies.
URL:https://www.arizonabiltmore.com/activities/yoga-stretch-2/2028-06-01/
LOCATION:The Studio
CATEGORIES:Fitness
ATTACH;FMTTYPE=image/jpeg:https://www.arizonabiltmore.com/wp-content/uploads/2021/12/dane-wetton-t1NEMSm1rgI-unsplash-scaled.jpg
END:VEVENT
BEGIN:VEVENT
DTSTART;TZID=America/Phoenix:20280602T100000
DTEND;TZID=America/Phoenix:20280602T110000
DTSTAMP:20260424T114416
CREATED:20251009T174228Z
LAST-MODIFIED:20260422T195022Z
UID:10052663-1843552800-1843556400@www.arizonabiltmore.com
SUMMARY:Restorative Meditation
DESCRIPTION:Breathwork\, relaxation\, and guided imagery meditation in combination with simple\, restorative poses\, facilitate the deepest levels of peace + healing.
URL:https://www.arizonabiltmore.com/activities/restorative-meditation/2028-06-02/
LOCATION:The Studio
CATEGORIES:Fitness,Spa and wellness
ATTACH;FMTTYPE=image/jpeg:https://www.arizonabiltmore.com/wp-content/uploads/2021/11/group-of-young-people-doing-yoga-on-a-yoga-mat-2021-09-02-14-56-30-utc-scaled.jpg
END:VEVENT
BEGIN:VEVENT
DTSTART;TZID=America/Phoenix:20280602T100000
DTEND;TZID=America/Phoenix:20280602T110000
DTSTAMP:20260424T114416
CREATED:20251126T194627Z
LAST-MODIFIED:20260422T002936Z
UID:10083997-1843552800-1843556400@www.arizonabiltmore.com
SUMMARY:Slow Flow Yoga
DESCRIPTION:This practice guides participants through a series of yoga poses to connect the breath with movement while promoting flexibility\, strength\, and body alignment. All experience levels welcome.
URL:https://www.arizonabiltmore.com/activities/slow-flow-yoga-2/2028-06-02/
LOCATION:The Studio
CATEGORIES:Fitness
ATTACH;FMTTYPE=image/jpeg:https://www.arizonabiltmore.com/wp-content/uploads/2021/11/group-of-young-people-doing-yoga-on-a-yoga-mat-2021-09-02-14-56-30-utc-scaled.jpg
END:VEVENT
BEGIN:VEVENT
DTSTART;TZID=America/Phoenix:20280603T073000
DTEND;TZID=America/Phoenix:20280603T083000
DTSTAMP:20260424T114416
CREATED:20251009T162405Z
LAST-MODIFIED:20260421T230014Z
UID:10076922-1843630200-1843633800@www.arizonabiltmore.com
SUMMARY:Mat Pilates
DESCRIPTION:Find your center and strengthen your body with this full-body\, low-impact workout designed to improve flexibility\, posture\, and core stability. Set in the serene surroundings of the Arizona Biltmore\, our Mat Pilates class focuses on mindful movement and controlled breathing to help you feel balanced and energized. Suitable for all fitness levels\, this guided session will leave you feeling longer\, leaner\, and more aligned—both inside and out.
URL:https://www.arizonabiltmore.com/activities/mat-pilates/2028-06-03/
LOCATION:The Studio
CATEGORIES:Fitness
ATTACH;FMTTYPE=image/jpeg:https://www.arizonabiltmore.com/wp-content/uploads/2021/11/Pilates-large.jpg
END:VEVENT
BEGIN:VEVENT
DTSTART;TZID=America/Phoenix:20280604T090000
DTEND;TZID=America/Phoenix:20280604T100000
DTSTAMP:20260424T114416
CREATED:20260108T165049Z
LAST-MODIFIED:20260422T202515Z
UID:10075395-1843722000-1843725600@www.arizonabiltmore.com
SUMMARY:TheraBand Stretch
DESCRIPTION:Full body stretch from head to toe using the TheraBand.
URL:https://www.arizonabiltmore.com/activities/theraband-stretch-2/2028-06-04/
LOCATION:The Studio
CATEGORIES:Fitness
ATTACH;FMTTYPE=image/jpeg:https://www.arizonabiltmore.com/wp-content/uploads/2025/12/4B7A4779-scaled.jpg
END:VEVENT
BEGIN:VEVENT
DTSTART;TZID=America/Phoenix:20280604T103000
DTEND;TZID=America/Phoenix:20280604T113000
DTSTAMP:20260424T114416
CREATED:20251128T181749Z
LAST-MODIFIED:20260422T194256Z
UID:10085780-1843727400-1843731000@www.arizonabiltmore.com
SUMMARY:Hatha Yoga
DESCRIPTION:A foundational yoga practice combining postures and breathing techniques to create a healthy body and peaceful mind. This practice focuses on alignment\, generating strength and flexibility. Excellent for beginners as well as experienced yogis.
URL:https://www.arizonabiltmore.com/activities/hatha-yoga-2-3-2/2028-06-04/
LOCATION:The Studio
CATEGORIES:Fitness
ATTACH;FMTTYPE=image/jpeg:https://www.arizonabiltmore.com/wp-content/uploads/2021/12/Yoga-Pose-large.jpg
END:VEVENT
BEGIN:VEVENT
DTSTART;TZID=America/Phoenix:20280605T073000
DTEND;TZID=America/Phoenix:20280605T083000
DTSTAMP:20260424T114416
CREATED:20251009T162405Z
LAST-MODIFIED:20260421T230014Z
UID:10076923-1843803000-1843806600@www.arizonabiltmore.com
SUMMARY:Mat Pilates
DESCRIPTION:Find your center and strengthen your body with this full-body\, low-impact workout designed to improve flexibility\, posture\, and core stability. Set in the serene surroundings of the Arizona Biltmore\, our Mat Pilates class focuses on mindful movement and controlled breathing to help you feel balanced and energized. Suitable for all fitness levels\, this guided session will leave you feeling longer\, leaner\, and more aligned—both inside and out.
URL:https://www.arizonabiltmore.com/activities/mat-pilates/2028-06-05/
LOCATION:The Studio
CATEGORIES:Fitness
ATTACH;FMTTYPE=image/jpeg:https://www.arizonabiltmore.com/wp-content/uploads/2021/11/Pilates-large.jpg
END:VEVENT
BEGIN:VEVENT
DTSTART;TZID=America/Phoenix:20280605T100000
DTEND;TZID=America/Phoenix:20280605T110000
DTSTAMP:20260424T114416
CREATED:20251126T194627Z
LAST-MODIFIED:20260422T002936Z
UID:10083998-1843812000-1843815600@www.arizonabiltmore.com
SUMMARY:Slow Flow Yoga
DESCRIPTION:This practice guides participants through a series of yoga poses to connect the breath with movement while promoting flexibility\, strength\, and body alignment. All experience levels welcome.
URL:https://www.arizonabiltmore.com/activities/slow-flow-yoga-2/2028-06-05/
LOCATION:The Studio
CATEGORIES:Fitness
ATTACH;FMTTYPE=image/jpeg:https://www.arizonabiltmore.com/wp-content/uploads/2021/11/group-of-young-people-doing-yoga-on-a-yoga-mat-2021-09-02-14-56-30-utc-scaled.jpg
END:VEVENT
BEGIN:VEVENT
DTSTART;TZID=America/Phoenix:20280605T113000
DTEND;TZID=America/Phoenix:20280605T123000
DTSTAMP:20260424T114416
CREATED:20251126T201214Z
LAST-MODIFIED:20260422T184335Z
UID:10085193-1843817400-1843821000@www.arizonabiltmore.com
SUMMARY:Yoga Stretch
DESCRIPTION:A therapeutic yoga practice combining elements from different styles of yoga; participants move through poses to stretch\, re-align\, and strengthen their bodies.
URL:https://www.arizonabiltmore.com/activities/yoga-stretch-2/2028-06-05/
LOCATION:The Studio
CATEGORIES:Fitness
ATTACH;FMTTYPE=image/jpeg:https://www.arizonabiltmore.com/wp-content/uploads/2021/12/dane-wetton-t1NEMSm1rgI-unsplash-scaled.jpg
END:VEVENT
BEGIN:VEVENT
DTSTART;TZID=America/Phoenix:20280606T090000
DTEND;TZID=America/Phoenix:20280606T100000
DTSTAMP:20260424T114416
CREATED:20260128T192126Z
LAST-MODIFIED:20260422T191420Z
UID:10073796-1843894800-1843898400@www.arizonabiltmore.com
SUMMARY:Yoga Basics
DESCRIPTION:A foundational yoga practice combining postures and breathing techniques to create a healthy body and peaceful mind. Excellent for beginners as well as experienced practitioners. (Adults only\, Ages 16 and 17 when accompanied by an adult)
URL:https://www.arizonabiltmore.com/activities/yoga-basics-2/2028-06-06/
LOCATION:The Studio
CATEGORIES:Fitness
ATTACH;FMTTYPE=image/jpeg:https://www.arizonabiltmore.com/wp-content/uploads/2021/12/Yoga-Pose-large.jpg
END:VEVENT
BEGIN:VEVENT
DTSTART;TZID=America/Phoenix:20280606T113000
DTEND;TZID=America/Phoenix:20280606T123000
DTSTAMP:20260424T114416
CREATED:20251126T201214Z
LAST-MODIFIED:20260422T184335Z
UID:10085194-1843903800-1843907400@www.arizonabiltmore.com
SUMMARY:Yoga Stretch
DESCRIPTION:A therapeutic yoga practice combining elements from different styles of yoga; participants move through poses to stretch\, re-align\, and strengthen their bodies.
URL:https://www.arizonabiltmore.com/activities/yoga-stretch-2/2028-06-06/
LOCATION:The Studio
CATEGORIES:Fitness
ATTACH;FMTTYPE=image/jpeg:https://www.arizonabiltmore.com/wp-content/uploads/2021/12/dane-wetton-t1NEMSm1rgI-unsplash-scaled.jpg
END:VEVENT
BEGIN:VEVENT
DTSTART;TZID=America/Phoenix:20280607T073000
DTEND;TZID=America/Phoenix:20280607T083000
DTSTAMP:20260424T114416
CREATED:20251009T162405Z
LAST-MODIFIED:20260421T230014Z
UID:10076924-1843975800-1843979400@www.arizonabiltmore.com
SUMMARY:Mat Pilates
DESCRIPTION:Find your center and strengthen your body with this full-body\, low-impact workout designed to improve flexibility\, posture\, and core stability. Set in the serene surroundings of the Arizona Biltmore\, our Mat Pilates class focuses on mindful movement and controlled breathing to help you feel balanced and energized. Suitable for all fitness levels\, this guided session will leave you feeling longer\, leaner\, and more aligned—both inside and out.
URL:https://www.arizonabiltmore.com/activities/mat-pilates/2028-06-07/
LOCATION:The Studio
CATEGORIES:Fitness
ATTACH;FMTTYPE=image/jpeg:https://www.arizonabiltmore.com/wp-content/uploads/2021/11/Pilates-large.jpg
END:VEVENT
BEGIN:VEVENT
DTSTART;TZID=America/Phoenix:20280607T103000
DTEND;TZID=America/Phoenix:20280607T113000
DTSTAMP:20260424T114416
CREATED:20251128T181749Z
LAST-MODIFIED:20260422T194256Z
UID:10083076-1843986600-1843990200@www.arizonabiltmore.com
SUMMARY:Hatha Yoga
DESCRIPTION:A foundational yoga practice combining postures and breathing techniques to create a healthy body and peaceful mind. This practice focuses on alignment\, generating strength and flexibility. Excellent for beginners as well as experienced yogis.
URL:https://www.arizonabiltmore.com/activities/hatha-yoga-2-3-2/2028-06-07/
LOCATION:The Studio
CATEGORIES:Fitness
ATTACH;FMTTYPE=image/jpeg:https://www.arizonabiltmore.com/wp-content/uploads/2021/12/Yoga-Pose-large.jpg
END:VEVENT
BEGIN:VEVENT
DTSTART;TZID=America/Phoenix:20280608T090000
DTEND;TZID=America/Phoenix:20280608T100000
DTSTAMP:20260424T114416
CREATED:20260128T192126Z
LAST-MODIFIED:20260422T191420Z
UID:10051440-1844067600-1844071200@www.arizonabiltmore.com
SUMMARY:Yoga Basics
DESCRIPTION:A foundational yoga practice combining postures and breathing techniques to create a healthy body and peaceful mind. Excellent for beginners as well as experienced practitioners. (Adults only\, Ages 16 and 17 when accompanied by an adult)
URL:https://www.arizonabiltmore.com/activities/yoga-basics-2/2028-06-08/
LOCATION:The Studio
CATEGORIES:Fitness
ATTACH;FMTTYPE=image/jpeg:https://www.arizonabiltmore.com/wp-content/uploads/2021/12/Yoga-Pose-large.jpg
END:VEVENT
BEGIN:VEVENT
DTSTART;TZID=America/Phoenix:20280608T113000
DTEND;TZID=America/Phoenix:20280608T123000
DTSTAMP:20260424T114416
CREATED:20251126T201214Z
LAST-MODIFIED:20260422T184335Z
UID:10085195-1844076600-1844080200@www.arizonabiltmore.com
SUMMARY:Yoga Stretch
DESCRIPTION:A therapeutic yoga practice combining elements from different styles of yoga; participants move through poses to stretch\, re-align\, and strengthen their bodies.
URL:https://www.arizonabiltmore.com/activities/yoga-stretch-2/2028-06-08/
LOCATION:The Studio
CATEGORIES:Fitness
ATTACH;FMTTYPE=image/jpeg:https://www.arizonabiltmore.com/wp-content/uploads/2021/12/dane-wetton-t1NEMSm1rgI-unsplash-scaled.jpg
END:VEVENT
BEGIN:VEVENT
DTSTART;TZID=America/Phoenix:20280609T100000
DTEND;TZID=America/Phoenix:20280609T110000
DTSTAMP:20260424T114416
CREATED:20251009T174228Z
LAST-MODIFIED:20260422T195022Z
UID:10052664-1844157600-1844161200@www.arizonabiltmore.com
SUMMARY:Restorative Meditation
DESCRIPTION:Breathwork\, relaxation\, and guided imagery meditation in combination with simple\, restorative poses\, facilitate the deepest levels of peace + healing.
URL:https://www.arizonabiltmore.com/activities/restorative-meditation/2028-06-09/
LOCATION:The Studio
CATEGORIES:Fitness,Spa and wellness
ATTACH;FMTTYPE=image/jpeg:https://www.arizonabiltmore.com/wp-content/uploads/2021/11/group-of-young-people-doing-yoga-on-a-yoga-mat-2021-09-02-14-56-30-utc-scaled.jpg
END:VEVENT
BEGIN:VEVENT
DTSTART;TZID=America/Phoenix:20280609T100000
DTEND;TZID=America/Phoenix:20280609T110000
DTSTAMP:20260424T114416
CREATED:20251126T194627Z
LAST-MODIFIED:20260422T002936Z
UID:10083999-1844157600-1844161200@www.arizonabiltmore.com
SUMMARY:Slow Flow Yoga
DESCRIPTION:This practice guides participants through a series of yoga poses to connect the breath with movement while promoting flexibility\, strength\, and body alignment. All experience levels welcome.
URL:https://www.arizonabiltmore.com/activities/slow-flow-yoga-2/2028-06-09/
LOCATION:The Studio
CATEGORIES:Fitness
ATTACH;FMTTYPE=image/jpeg:https://www.arizonabiltmore.com/wp-content/uploads/2021/11/group-of-young-people-doing-yoga-on-a-yoga-mat-2021-09-02-14-56-30-utc-scaled.jpg
END:VEVENT
BEGIN:VEVENT
DTSTART;TZID=America/Phoenix:20280610T073000
DTEND;TZID=America/Phoenix:20280610T083000
DTSTAMP:20260424T114416
CREATED:20251009T162405Z
LAST-MODIFIED:20260421T230014Z
UID:10076925-1844235000-1844238600@www.arizonabiltmore.com
SUMMARY:Mat Pilates
DESCRIPTION:Find your center and strengthen your body with this full-body\, low-impact workout designed to improve flexibility\, posture\, and core stability. Set in the serene surroundings of the Arizona Biltmore\, our Mat Pilates class focuses on mindful movement and controlled breathing to help you feel balanced and energized. Suitable for all fitness levels\, this guided session will leave you feeling longer\, leaner\, and more aligned—both inside and out.
URL:https://www.arizonabiltmore.com/activities/mat-pilates/2028-06-10/
LOCATION:The Studio
CATEGORIES:Fitness
ATTACH;FMTTYPE=image/jpeg:https://www.arizonabiltmore.com/wp-content/uploads/2021/11/Pilates-large.jpg
END:VEVENT
BEGIN:VEVENT
DTSTART;TZID=America/Phoenix:20280611T090000
DTEND;TZID=America/Phoenix:20280611T100000
DTSTAMP:20260424T114416
CREATED:20260108T165049Z
LAST-MODIFIED:20260422T202515Z
UID:10075396-1844326800-1844330400@www.arizonabiltmore.com
SUMMARY:TheraBand Stretch
DESCRIPTION:Full body stretch from head to toe using the TheraBand.
URL:https://www.arizonabiltmore.com/activities/theraband-stretch-2/2028-06-11/
LOCATION:The Studio
CATEGORIES:Fitness
ATTACH;FMTTYPE=image/jpeg:https://www.arizonabiltmore.com/wp-content/uploads/2025/12/4B7A4779-scaled.jpg
END:VEVENT
BEGIN:VEVENT
DTSTART;TZID=America/Phoenix:20280611T103000
DTEND;TZID=America/Phoenix:20280611T113000
DTSTAMP:20260424T114416
CREATED:20251128T181749Z
LAST-MODIFIED:20260422T194256Z
UID:10085781-1844332200-1844335800@www.arizonabiltmore.com
SUMMARY:Hatha Yoga
DESCRIPTION:A foundational yoga practice combining postures and breathing techniques to create a healthy body and peaceful mind. This practice focuses on alignment\, generating strength and flexibility. Excellent for beginners as well as experienced yogis.
URL:https://www.arizonabiltmore.com/activities/hatha-yoga-2-3-2/2028-06-11/
LOCATION:The Studio
CATEGORIES:Fitness
ATTACH;FMTTYPE=image/jpeg:https://www.arizonabiltmore.com/wp-content/uploads/2021/12/Yoga-Pose-large.jpg
END:VEVENT
BEGIN:VEVENT
DTSTART;TZID=America/Phoenix:20280612T073000
DTEND;TZID=America/Phoenix:20280612T083000
DTSTAMP:20260424T114416
CREATED:20251009T162405Z
LAST-MODIFIED:20260421T230014Z
UID:10076926-1844407800-1844411400@www.arizonabiltmore.com
SUMMARY:Mat Pilates
DESCRIPTION:Find your center and strengthen your body with this full-body\, low-impact workout designed to improve flexibility\, posture\, and core stability. Set in the serene surroundings of the Arizona Biltmore\, our Mat Pilates class focuses on mindful movement and controlled breathing to help you feel balanced and energized. Suitable for all fitness levels\, this guided session will leave you feeling longer\, leaner\, and more aligned—both inside and out.
URL:https://www.arizonabiltmore.com/activities/mat-pilates/2028-06-12/
LOCATION:The Studio
CATEGORIES:Fitness
ATTACH;FMTTYPE=image/jpeg:https://www.arizonabiltmore.com/wp-content/uploads/2021/11/Pilates-large.jpg
END:VEVENT
BEGIN:VEVENT
DTSTART;TZID=America/Phoenix:20280612T100000
DTEND;TZID=America/Phoenix:20280612T110000
DTSTAMP:20260424T114416
CREATED:20251126T194627Z
LAST-MODIFIED:20260422T002936Z
UID:10084000-1844416800-1844420400@www.arizonabiltmore.com
SUMMARY:Slow Flow Yoga
DESCRIPTION:This practice guides participants through a series of yoga poses to connect the breath with movement while promoting flexibility\, strength\, and body alignment. All experience levels welcome.
URL:https://www.arizonabiltmore.com/activities/slow-flow-yoga-2/2028-06-12/
LOCATION:The Studio
CATEGORIES:Fitness
ATTACH;FMTTYPE=image/jpeg:https://www.arizonabiltmore.com/wp-content/uploads/2021/11/group-of-young-people-doing-yoga-on-a-yoga-mat-2021-09-02-14-56-30-utc-scaled.jpg
END:VEVENT
BEGIN:VEVENT
DTSTART;TZID=America/Phoenix:20280612T113000
DTEND;TZID=America/Phoenix:20280612T123000
DTSTAMP:20260424T114416
CREATED:20251126T201214Z
LAST-MODIFIED:20260422T184335Z
UID:10085196-1844422200-1844425800@www.arizonabiltmore.com
SUMMARY:Yoga Stretch
DESCRIPTION:A therapeutic yoga practice combining elements from different styles of yoga; participants move through poses to stretch\, re-align\, and strengthen their bodies.
URL:https://www.arizonabiltmore.com/activities/yoga-stretch-2/2028-06-12/
LOCATION:The Studio
CATEGORIES:Fitness
ATTACH;FMTTYPE=image/jpeg:https://www.arizonabiltmore.com/wp-content/uploads/2021/12/dane-wetton-t1NEMSm1rgI-unsplash-scaled.jpg
END:VEVENT
END:VCALENDAR