BEGIN:VCALENDAR
VERSION:2.0
PRODID:-//Luxury Resort in Phoenix - ECPv6.10.1.1//NONSGML v1.0//EN
CALSCALE:GREGORIAN
METHOD:PUBLISH
X-WR-CALNAME:Luxury Resort in Phoenix
X-ORIGINAL-URL:https://www.arizonabiltmore.com
X-WR-CALDESC:Events for Luxury Resort in Phoenix
REFRESH-INTERVAL;VALUE=DURATION:PT1H
X-Robots-Tag:noindex
X-PUBLISHED-TTL:PT1H
BEGIN:VTIMEZONE
TZID:America/Phoenix
BEGIN:STANDARD
TZOFFSETFROM:-0700
TZOFFSETTO:-0700
TZNAME:MST
DTSTART:20290101T000000
END:STANDARD
END:VTIMEZONE
BEGIN:VEVENT
DTSTART;TZID=America/Phoenix:20290331T073000
DTEND;TZID=America/Phoenix:20290331T083000
DTSTAMP:20260425T032025
CREATED:20251009T162405Z
LAST-MODIFIED:20260421T230014Z
UID:10077051-1869636600-1869640200@www.arizonabiltmore.com
SUMMARY:Mat Pilates
DESCRIPTION:Find your center and strengthen your body with this full-body\, low-impact workout designed to improve flexibility\, posture\, and core stability. Set in the serene surroundings of the Arizona Biltmore\, our Mat Pilates class focuses on mindful movement and controlled breathing to help you feel balanced and energized. Suitable for all fitness levels\, this guided session will leave you feeling longer\, leaner\, and more aligned—both inside and out.
URL:https://www.arizonabiltmore.com/activities/mat-pilates/2029-03-31/
LOCATION:The Studio
CATEGORIES:Fitness
ATTACH;FMTTYPE=image/jpeg:https://www.arizonabiltmore.com/wp-content/uploads/2021/11/Pilates-large.jpg
END:VEVENT
BEGIN:VEVENT
DTSTART;TZID=America/Phoenix:20290401T090000
DTEND;TZID=America/Phoenix:20290401T100000
DTSTAMP:20260425T032025
CREATED:20260108T165049Z
LAST-MODIFIED:20260422T202515Z
UID:10075438-1869728400-1869732000@www.arizonabiltmore.com
SUMMARY:TheraBand Stretch
DESCRIPTION:Full body stretch from head to toe using the TheraBand.
URL:https://www.arizonabiltmore.com/activities/theraband-stretch-2/2029-04-01/
LOCATION:The Studio
CATEGORIES:Fitness
ATTACH;FMTTYPE=image/jpeg:https://www.arizonabiltmore.com/wp-content/uploads/2025/12/4B7A4779-scaled.jpg
END:VEVENT
BEGIN:VEVENT
DTSTART;TZID=America/Phoenix:20290401T103000
DTEND;TZID=America/Phoenix:20290401T113000
DTSTAMP:20260425T032025
CREATED:20251128T181749Z
LAST-MODIFIED:20260422T194256Z
UID:10085823-1869733800-1869737400@www.arizonabiltmore.com
SUMMARY:Hatha Yoga
DESCRIPTION:A foundational yoga practice combining postures and breathing techniques to create a healthy body and peaceful mind. This practice focuses on alignment\, generating strength and flexibility. Excellent for beginners as well as experienced yogis.
URL:https://www.arizonabiltmore.com/activities/hatha-yoga-2-3-2/2029-04-01/
LOCATION:The Studio
CATEGORIES:Fitness
ATTACH;FMTTYPE=image/jpeg:https://www.arizonabiltmore.com/wp-content/uploads/2021/12/Yoga-Pose-large.jpg
END:VEVENT
BEGIN:VEVENT
DTSTART;TZID=America/Phoenix:20290402T073000
DTEND;TZID=America/Phoenix:20290402T083000
DTSTAMP:20260425T032025
CREATED:20251009T162405Z
LAST-MODIFIED:20260421T230014Z
UID:10077052-1869809400-1869813000@www.arizonabiltmore.com
SUMMARY:Mat Pilates
DESCRIPTION:Find your center and strengthen your body with this full-body\, low-impact workout designed to improve flexibility\, posture\, and core stability. Set in the serene surroundings of the Arizona Biltmore\, our Mat Pilates class focuses on mindful movement and controlled breathing to help you feel balanced and energized. Suitable for all fitness levels\, this guided session will leave you feeling longer\, leaner\, and more aligned—both inside and out.
URL:https://www.arizonabiltmore.com/activities/mat-pilates/2029-04-02/
LOCATION:The Studio
CATEGORIES:Fitness
ATTACH;FMTTYPE=image/jpeg:https://www.arizonabiltmore.com/wp-content/uploads/2021/11/Pilates-large.jpg
END:VEVENT
BEGIN:VEVENT
DTSTART;TZID=America/Phoenix:20290402T100000
DTEND;TZID=America/Phoenix:20290402T110000
DTSTAMP:20260425T032025
CREATED:20251126T194627Z
LAST-MODIFIED:20260422T002936Z
UID:10084084-1869818400-1869822000@www.arizonabiltmore.com
SUMMARY:Slow Flow Yoga
DESCRIPTION:This practice guides participants through a series of yoga poses to connect the breath with movement while promoting flexibility\, strength\, and body alignment. All experience levels welcome.
URL:https://www.arizonabiltmore.com/activities/slow-flow-yoga-2/2029-04-02/
LOCATION:The Studio
CATEGORIES:Fitness
ATTACH;FMTTYPE=image/jpeg:https://www.arizonabiltmore.com/wp-content/uploads/2021/11/group-of-young-people-doing-yoga-on-a-yoga-mat-2021-09-02-14-56-30-utc-scaled.jpg
END:VEVENT
BEGIN:VEVENT
DTSTART;TZID=America/Phoenix:20290402T113000
DTEND;TZID=America/Phoenix:20290402T123000
DTSTAMP:20260425T032025
CREATED:20251126T201214Z
LAST-MODIFIED:20260422T184335Z
UID:10085322-1869823800-1869827400@www.arizonabiltmore.com
SUMMARY:Yoga Stretch
DESCRIPTION:A therapeutic yoga practice combining elements from different styles of yoga; participants move through poses to stretch\, re-align\, and strengthen their bodies.
URL:https://www.arizonabiltmore.com/activities/yoga-stretch-2/2029-04-02/
LOCATION:The Studio
CATEGORIES:Fitness
ATTACH;FMTTYPE=image/jpeg:https://www.arizonabiltmore.com/wp-content/uploads/2021/12/dane-wetton-t1NEMSm1rgI-unsplash-scaled.jpg
END:VEVENT
BEGIN:VEVENT
DTSTART;TZID=America/Phoenix:20290403T090000
DTEND;TZID=America/Phoenix:20290403T100000
DTSTAMP:20260425T032025
CREATED:20260128T192126Z
LAST-MODIFIED:20260422T191420Z
UID:10073839-1869901200-1869904800@www.arizonabiltmore.com
SUMMARY:Yoga Basics
DESCRIPTION:A foundational yoga practice combining postures and breathing techniques to create a healthy body and peaceful mind. Excellent for beginners as well as experienced practitioners. (Adults only\, Ages 16 and 17 when accompanied by an adult)
URL:https://www.arizonabiltmore.com/activities/yoga-basics-2/2029-04-03/
LOCATION:The Studio
CATEGORIES:Fitness
ATTACH;FMTTYPE=image/jpeg:https://www.arizonabiltmore.com/wp-content/uploads/2021/12/Yoga-Pose-large.jpg
END:VEVENT
BEGIN:VEVENT
DTSTART;TZID=America/Phoenix:20290403T113000
DTEND;TZID=America/Phoenix:20290403T123000
DTSTAMP:20260425T032025
CREATED:20251126T201214Z
LAST-MODIFIED:20260422T184335Z
UID:10085323-1869910200-1869913800@www.arizonabiltmore.com
SUMMARY:Yoga Stretch
DESCRIPTION:A therapeutic yoga practice combining elements from different styles of yoga; participants move through poses to stretch\, re-align\, and strengthen their bodies.
URL:https://www.arizonabiltmore.com/activities/yoga-stretch-2/2029-04-03/
LOCATION:The Studio
CATEGORIES:Fitness
ATTACH;FMTTYPE=image/jpeg:https://www.arizonabiltmore.com/wp-content/uploads/2021/12/dane-wetton-t1NEMSm1rgI-unsplash-scaled.jpg
END:VEVENT
BEGIN:VEVENT
DTSTART;TZID=America/Phoenix:20290404T073000
DTEND;TZID=America/Phoenix:20290404T083000
DTSTAMP:20260425T032025
CREATED:20251009T162405Z
LAST-MODIFIED:20260421T230014Z
UID:10077053-1869982200-1869985800@www.arizonabiltmore.com
SUMMARY:Mat Pilates
DESCRIPTION:Find your center and strengthen your body with this full-body\, low-impact workout designed to improve flexibility\, posture\, and core stability. Set in the serene surroundings of the Arizona Biltmore\, our Mat Pilates class focuses on mindful movement and controlled breathing to help you feel balanced and energized. Suitable for all fitness levels\, this guided session will leave you feeling longer\, leaner\, and more aligned—both inside and out.
URL:https://www.arizonabiltmore.com/activities/mat-pilates/2029-04-04/
LOCATION:The Studio
CATEGORIES:Fitness
ATTACH;FMTTYPE=image/jpeg:https://www.arizonabiltmore.com/wp-content/uploads/2021/11/Pilates-large.jpg
END:VEVENT
BEGIN:VEVENT
DTSTART;TZID=America/Phoenix:20290404T103000
DTEND;TZID=America/Phoenix:20290404T113000
DTSTAMP:20260425T032025
CREATED:20251128T181749Z
LAST-MODIFIED:20260422T194256Z
UID:10083119-1869993000-1869996600@www.arizonabiltmore.com
SUMMARY:Hatha Yoga
DESCRIPTION:A foundational yoga practice combining postures and breathing techniques to create a healthy body and peaceful mind. This practice focuses on alignment\, generating strength and flexibility. Excellent for beginners as well as experienced yogis.
URL:https://www.arizonabiltmore.com/activities/hatha-yoga-2-3-2/2029-04-04/
LOCATION:The Studio
CATEGORIES:Fitness
ATTACH;FMTTYPE=image/jpeg:https://www.arizonabiltmore.com/wp-content/uploads/2021/12/Yoga-Pose-large.jpg
END:VEVENT
BEGIN:VEVENT
DTSTART;TZID=America/Phoenix:20290405T090000
DTEND;TZID=America/Phoenix:20290405T100000
DTSTAMP:20260425T032025
CREATED:20260128T192126Z
LAST-MODIFIED:20260422T191420Z
UID:10051526-1870074000-1870077600@www.arizonabiltmore.com
SUMMARY:Yoga Basics
DESCRIPTION:A foundational yoga practice combining postures and breathing techniques to create a healthy body and peaceful mind. Excellent for beginners as well as experienced practitioners. (Adults only\, Ages 16 and 17 when accompanied by an adult)
URL:https://www.arizonabiltmore.com/activities/yoga-basics-2/2029-04-05/
LOCATION:The Studio
CATEGORIES:Fitness
ATTACH;FMTTYPE=image/jpeg:https://www.arizonabiltmore.com/wp-content/uploads/2021/12/Yoga-Pose-large.jpg
END:VEVENT
BEGIN:VEVENT
DTSTART;TZID=America/Phoenix:20290405T113000
DTEND;TZID=America/Phoenix:20290405T123000
DTSTAMP:20260425T032025
CREATED:20251126T201214Z
LAST-MODIFIED:20260422T184335Z
UID:10085324-1870083000-1870086600@www.arizonabiltmore.com
SUMMARY:Yoga Stretch
DESCRIPTION:A therapeutic yoga practice combining elements from different styles of yoga; participants move through poses to stretch\, re-align\, and strengthen their bodies.
URL:https://www.arizonabiltmore.com/activities/yoga-stretch-2/2029-04-05/
LOCATION:The Studio
CATEGORIES:Fitness
ATTACH;FMTTYPE=image/jpeg:https://www.arizonabiltmore.com/wp-content/uploads/2021/12/dane-wetton-t1NEMSm1rgI-unsplash-scaled.jpg
END:VEVENT
BEGIN:VEVENT
DTSTART;TZID=America/Phoenix:20290406T100000
DTEND;TZID=America/Phoenix:20290406T110000
DTSTAMP:20260425T032025
CREATED:20251009T174228Z
LAST-MODIFIED:20260422T195022Z
UID:10052707-1870164000-1870167600@www.arizonabiltmore.com
SUMMARY:Restorative Meditation
DESCRIPTION:Breathwork\, relaxation\, and guided imagery meditation in combination with simple\, restorative poses\, facilitate the deepest levels of peace + healing.
URL:https://www.arizonabiltmore.com/activities/restorative-meditation/2029-04-06/
LOCATION:The Studio
CATEGORIES:Fitness,Spa and wellness
ATTACH;FMTTYPE=image/jpeg:https://www.arizonabiltmore.com/wp-content/uploads/2021/11/group-of-young-people-doing-yoga-on-a-yoga-mat-2021-09-02-14-56-30-utc-scaled.jpg
END:VEVENT
BEGIN:VEVENT
DTSTART;TZID=America/Phoenix:20290406T100000
DTEND;TZID=America/Phoenix:20290406T110000
DTSTAMP:20260425T032025
CREATED:20251126T194627Z
LAST-MODIFIED:20260422T002936Z
UID:10084085-1870164000-1870167600@www.arizonabiltmore.com
SUMMARY:Slow Flow Yoga
DESCRIPTION:This practice guides participants through a series of yoga poses to connect the breath with movement while promoting flexibility\, strength\, and body alignment. All experience levels welcome.
URL:https://www.arizonabiltmore.com/activities/slow-flow-yoga-2/2029-04-06/
LOCATION:The Studio
CATEGORIES:Fitness
ATTACH;FMTTYPE=image/jpeg:https://www.arizonabiltmore.com/wp-content/uploads/2021/11/group-of-young-people-doing-yoga-on-a-yoga-mat-2021-09-02-14-56-30-utc-scaled.jpg
END:VEVENT
BEGIN:VEVENT
DTSTART;TZID=America/Phoenix:20290407T073000
DTEND;TZID=America/Phoenix:20290407T083000
DTSTAMP:20260425T032025
CREATED:20251009T162405Z
LAST-MODIFIED:20260421T230014Z
UID:10077054-1870241400-1870245000@www.arizonabiltmore.com
SUMMARY:Mat Pilates
DESCRIPTION:Find your center and strengthen your body with this full-body\, low-impact workout designed to improve flexibility\, posture\, and core stability. Set in the serene surroundings of the Arizona Biltmore\, our Mat Pilates class focuses on mindful movement and controlled breathing to help you feel balanced and energized. Suitable for all fitness levels\, this guided session will leave you feeling longer\, leaner\, and more aligned—both inside and out.
URL:https://www.arizonabiltmore.com/activities/mat-pilates/2029-04-07/
LOCATION:The Studio
CATEGORIES:Fitness
ATTACH;FMTTYPE=image/jpeg:https://www.arizonabiltmore.com/wp-content/uploads/2021/11/Pilates-large.jpg
END:VEVENT
BEGIN:VEVENT
DTSTART;TZID=America/Phoenix:20290408T090000
DTEND;TZID=America/Phoenix:20290408T100000
DTSTAMP:20260425T032025
CREATED:20260108T165049Z
LAST-MODIFIED:20260422T202515Z
UID:10075439-1870333200-1870336800@www.arizonabiltmore.com
SUMMARY:TheraBand Stretch
DESCRIPTION:Full body stretch from head to toe using the TheraBand.
URL:https://www.arizonabiltmore.com/activities/theraband-stretch-2/2029-04-08/
LOCATION:The Studio
CATEGORIES:Fitness
ATTACH;FMTTYPE=image/jpeg:https://www.arizonabiltmore.com/wp-content/uploads/2025/12/4B7A4779-scaled.jpg
END:VEVENT
BEGIN:VEVENT
DTSTART;TZID=America/Phoenix:20290408T103000
DTEND;TZID=America/Phoenix:20290408T113000
DTSTAMP:20260425T032025
CREATED:20251128T181749Z
LAST-MODIFIED:20260422T194256Z
UID:10085824-1870338600-1870342200@www.arizonabiltmore.com
SUMMARY:Hatha Yoga
DESCRIPTION:A foundational yoga practice combining postures and breathing techniques to create a healthy body and peaceful mind. This practice focuses on alignment\, generating strength and flexibility. Excellent for beginners as well as experienced yogis.
URL:https://www.arizonabiltmore.com/activities/hatha-yoga-2-3-2/2029-04-08/
LOCATION:The Studio
CATEGORIES:Fitness
ATTACH;FMTTYPE=image/jpeg:https://www.arizonabiltmore.com/wp-content/uploads/2021/12/Yoga-Pose-large.jpg
END:VEVENT
BEGIN:VEVENT
DTSTART;TZID=America/Phoenix:20290409T073000
DTEND;TZID=America/Phoenix:20290409T083000
DTSTAMP:20260425T032025
CREATED:20251009T162405Z
LAST-MODIFIED:20260421T230014Z
UID:10077055-1870414200-1870417800@www.arizonabiltmore.com
SUMMARY:Mat Pilates
DESCRIPTION:Find your center and strengthen your body with this full-body\, low-impact workout designed to improve flexibility\, posture\, and core stability. Set in the serene surroundings of the Arizona Biltmore\, our Mat Pilates class focuses on mindful movement and controlled breathing to help you feel balanced and energized. Suitable for all fitness levels\, this guided session will leave you feeling longer\, leaner\, and more aligned—both inside and out.
URL:https://www.arizonabiltmore.com/activities/mat-pilates/2029-04-09/
LOCATION:The Studio
CATEGORIES:Fitness
ATTACH;FMTTYPE=image/jpeg:https://www.arizonabiltmore.com/wp-content/uploads/2021/11/Pilates-large.jpg
END:VEVENT
BEGIN:VEVENT
DTSTART;TZID=America/Phoenix:20290409T100000
DTEND;TZID=America/Phoenix:20290409T110000
DTSTAMP:20260425T032025
CREATED:20251126T194627Z
LAST-MODIFIED:20260422T002936Z
UID:10084086-1870423200-1870426800@www.arizonabiltmore.com
SUMMARY:Slow Flow Yoga
DESCRIPTION:This practice guides participants through a series of yoga poses to connect the breath with movement while promoting flexibility\, strength\, and body alignment. All experience levels welcome.
URL:https://www.arizonabiltmore.com/activities/slow-flow-yoga-2/2029-04-09/
LOCATION:The Studio
CATEGORIES:Fitness
ATTACH;FMTTYPE=image/jpeg:https://www.arizonabiltmore.com/wp-content/uploads/2021/11/group-of-young-people-doing-yoga-on-a-yoga-mat-2021-09-02-14-56-30-utc-scaled.jpg
END:VEVENT
BEGIN:VEVENT
DTSTART;TZID=America/Phoenix:20290409T113000
DTEND;TZID=America/Phoenix:20290409T123000
DTSTAMP:20260425T032025
CREATED:20251126T201214Z
LAST-MODIFIED:20260422T184335Z
UID:10085325-1870428600-1870432200@www.arizonabiltmore.com
SUMMARY:Yoga Stretch
DESCRIPTION:A therapeutic yoga practice combining elements from different styles of yoga; participants move through poses to stretch\, re-align\, and strengthen their bodies.
URL:https://www.arizonabiltmore.com/activities/yoga-stretch-2/2029-04-09/
LOCATION:The Studio
CATEGORIES:Fitness
ATTACH;FMTTYPE=image/jpeg:https://www.arizonabiltmore.com/wp-content/uploads/2021/12/dane-wetton-t1NEMSm1rgI-unsplash-scaled.jpg
END:VEVENT
BEGIN:VEVENT
DTSTART;TZID=America/Phoenix:20290410T090000
DTEND;TZID=America/Phoenix:20290410T100000
DTSTAMP:20260425T032025
CREATED:20260128T192126Z
LAST-MODIFIED:20260422T191420Z
UID:10073840-1870506000-1870509600@www.arizonabiltmore.com
SUMMARY:Yoga Basics
DESCRIPTION:A foundational yoga practice combining postures and breathing techniques to create a healthy body and peaceful mind. Excellent for beginners as well as experienced practitioners. (Adults only\, Ages 16 and 17 when accompanied by an adult)
URL:https://www.arizonabiltmore.com/activities/yoga-basics-2/2029-04-10/
LOCATION:The Studio
CATEGORIES:Fitness
ATTACH;FMTTYPE=image/jpeg:https://www.arizonabiltmore.com/wp-content/uploads/2021/12/Yoga-Pose-large.jpg
END:VEVENT
BEGIN:VEVENT
DTSTART;TZID=America/Phoenix:20290410T113000
DTEND;TZID=America/Phoenix:20290410T123000
DTSTAMP:20260425T032025
CREATED:20251126T201214Z
LAST-MODIFIED:20260422T184335Z
UID:10085326-1870515000-1870518600@www.arizonabiltmore.com
SUMMARY:Yoga Stretch
DESCRIPTION:A therapeutic yoga practice combining elements from different styles of yoga; participants move through poses to stretch\, re-align\, and strengthen their bodies.
URL:https://www.arizonabiltmore.com/activities/yoga-stretch-2/2029-04-10/
LOCATION:The Studio
CATEGORIES:Fitness
ATTACH;FMTTYPE=image/jpeg:https://www.arizonabiltmore.com/wp-content/uploads/2021/12/dane-wetton-t1NEMSm1rgI-unsplash-scaled.jpg
END:VEVENT
BEGIN:VEVENT
DTSTART;TZID=America/Phoenix:20290411T073000
DTEND;TZID=America/Phoenix:20290411T083000
DTSTAMP:20260425T032025
CREATED:20251009T162405Z
LAST-MODIFIED:20260421T230014Z
UID:10077056-1870587000-1870590600@www.arizonabiltmore.com
SUMMARY:Mat Pilates
DESCRIPTION:Find your center and strengthen your body with this full-body\, low-impact workout designed to improve flexibility\, posture\, and core stability. Set in the serene surroundings of the Arizona Biltmore\, our Mat Pilates class focuses on mindful movement and controlled breathing to help you feel balanced and energized. Suitable for all fitness levels\, this guided session will leave you feeling longer\, leaner\, and more aligned—both inside and out.
URL:https://www.arizonabiltmore.com/activities/mat-pilates/2029-04-11/
LOCATION:The Studio
CATEGORIES:Fitness
ATTACH;FMTTYPE=image/jpeg:https://www.arizonabiltmore.com/wp-content/uploads/2021/11/Pilates-large.jpg
END:VEVENT
BEGIN:VEVENT
DTSTART;TZID=America/Phoenix:20290411T103000
DTEND;TZID=America/Phoenix:20290411T113000
DTSTAMP:20260425T032025
CREATED:20251128T181749Z
LAST-MODIFIED:20260422T194256Z
UID:10083120-1870597800-1870601400@www.arizonabiltmore.com
SUMMARY:Hatha Yoga
DESCRIPTION:A foundational yoga practice combining postures and breathing techniques to create a healthy body and peaceful mind. This practice focuses on alignment\, generating strength and flexibility. Excellent for beginners as well as experienced yogis.
URL:https://www.arizonabiltmore.com/activities/hatha-yoga-2-3-2/2029-04-11/
LOCATION:The Studio
CATEGORIES:Fitness
ATTACH;FMTTYPE=image/jpeg:https://www.arizonabiltmore.com/wp-content/uploads/2021/12/Yoga-Pose-large.jpg
END:VEVENT
BEGIN:VEVENT
DTSTART;TZID=America/Phoenix:20290412T090000
DTEND;TZID=America/Phoenix:20290412T100000
DTSTAMP:20260425T032025
CREATED:20260128T192126Z
LAST-MODIFIED:20260422T191420Z
UID:10051528-1870678800-1870682400@www.arizonabiltmore.com
SUMMARY:Yoga Basics
DESCRIPTION:A foundational yoga practice combining postures and breathing techniques to create a healthy body and peaceful mind. Excellent for beginners as well as experienced practitioners. (Adults only\, Ages 16 and 17 when accompanied by an adult)
URL:https://www.arizonabiltmore.com/activities/yoga-basics-2/2029-04-12/
LOCATION:The Studio
CATEGORIES:Fitness
ATTACH;FMTTYPE=image/jpeg:https://www.arizonabiltmore.com/wp-content/uploads/2021/12/Yoga-Pose-large.jpg
END:VEVENT
BEGIN:VEVENT
DTSTART;TZID=America/Phoenix:20290412T113000
DTEND;TZID=America/Phoenix:20290412T123000
DTSTAMP:20260425T032025
CREATED:20251126T201214Z
LAST-MODIFIED:20260422T184335Z
UID:10085327-1870687800-1870691400@www.arizonabiltmore.com
SUMMARY:Yoga Stretch
DESCRIPTION:A therapeutic yoga practice combining elements from different styles of yoga; participants move through poses to stretch\, re-align\, and strengthen their bodies.
URL:https://www.arizonabiltmore.com/activities/yoga-stretch-2/2029-04-12/
LOCATION:The Studio
CATEGORIES:Fitness
ATTACH;FMTTYPE=image/jpeg:https://www.arizonabiltmore.com/wp-content/uploads/2021/12/dane-wetton-t1NEMSm1rgI-unsplash-scaled.jpg
END:VEVENT
BEGIN:VEVENT
DTSTART;TZID=America/Phoenix:20290413T100000
DTEND;TZID=America/Phoenix:20290413T110000
DTSTAMP:20260425T032025
CREATED:20251009T174228Z
LAST-MODIFIED:20260422T195022Z
UID:10052708-1870768800-1870772400@www.arizonabiltmore.com
SUMMARY:Restorative Meditation
DESCRIPTION:Breathwork\, relaxation\, and guided imagery meditation in combination with simple\, restorative poses\, facilitate the deepest levels of peace + healing.
URL:https://www.arizonabiltmore.com/activities/restorative-meditation/2029-04-13/
LOCATION:The Studio
CATEGORIES:Fitness,Spa and wellness
ATTACH;FMTTYPE=image/jpeg:https://www.arizonabiltmore.com/wp-content/uploads/2021/11/group-of-young-people-doing-yoga-on-a-yoga-mat-2021-09-02-14-56-30-utc-scaled.jpg
END:VEVENT
BEGIN:VEVENT
DTSTART;TZID=America/Phoenix:20290413T100000
DTEND;TZID=America/Phoenix:20290413T110000
DTSTAMP:20260425T032025
CREATED:20251126T194627Z
LAST-MODIFIED:20260422T002936Z
UID:10084087-1870768800-1870772400@www.arizonabiltmore.com
SUMMARY:Slow Flow Yoga
DESCRIPTION:This practice guides participants through a series of yoga poses to connect the breath with movement while promoting flexibility\, strength\, and body alignment. All experience levels welcome.
URL:https://www.arizonabiltmore.com/activities/slow-flow-yoga-2/2029-04-13/
LOCATION:The Studio
CATEGORIES:Fitness
ATTACH;FMTTYPE=image/jpeg:https://www.arizonabiltmore.com/wp-content/uploads/2021/11/group-of-young-people-doing-yoga-on-a-yoga-mat-2021-09-02-14-56-30-utc-scaled.jpg
END:VEVENT
BEGIN:VEVENT
DTSTART;TZID=America/Phoenix:20290414T073000
DTEND;TZID=America/Phoenix:20290414T083000
DTSTAMP:20260425T032025
CREATED:20251009T162405Z
LAST-MODIFIED:20260421T230014Z
UID:10077057-1870846200-1870849800@www.arizonabiltmore.com
SUMMARY:Mat Pilates
DESCRIPTION:Find your center and strengthen your body with this full-body\, low-impact workout designed to improve flexibility\, posture\, and core stability. Set in the serene surroundings of the Arizona Biltmore\, our Mat Pilates class focuses on mindful movement and controlled breathing to help you feel balanced and energized. Suitable for all fitness levels\, this guided session will leave you feeling longer\, leaner\, and more aligned—both inside and out.
URL:https://www.arizonabiltmore.com/activities/mat-pilates/2029-04-14/
LOCATION:The Studio
CATEGORIES:Fitness
ATTACH;FMTTYPE=image/jpeg:https://www.arizonabiltmore.com/wp-content/uploads/2021/11/Pilates-large.jpg
END:VEVENT
BEGIN:VEVENT
DTSTART;TZID=America/Phoenix:20290415T090000
DTEND;TZID=America/Phoenix:20290415T100000
DTSTAMP:20260425T032025
CREATED:20260108T165049Z
LAST-MODIFIED:20260422T202515Z
UID:10075440-1870938000-1870941600@www.arizonabiltmore.com
SUMMARY:TheraBand Stretch
DESCRIPTION:Full body stretch from head to toe using the TheraBand.
URL:https://www.arizonabiltmore.com/activities/theraband-stretch-2/2029-04-15/
LOCATION:The Studio
CATEGORIES:Fitness
ATTACH;FMTTYPE=image/jpeg:https://www.arizonabiltmore.com/wp-content/uploads/2025/12/4B7A4779-scaled.jpg
END:VEVENT
END:VCALENDAR