BEGIN:VCALENDAR
VERSION:2.0
PRODID:-//Luxury Resort in Phoenix - ECPv6.10.1.1//NONSGML v1.0//EN
CALSCALE:GREGORIAN
METHOD:PUBLISH
X-WR-CALNAME:Luxury Resort in Phoenix
X-ORIGINAL-URL:https://www.arizonabiltmore.com
X-WR-CALDESC:Events for Luxury Resort in Phoenix
REFRESH-INTERVAL;VALUE=DURATION:PT1H
X-Robots-Tag:noindex
X-PUBLISHED-TTL:PT1H
BEGIN:VTIMEZONE
TZID:America/Phoenix
BEGIN:STANDARD
TZOFFSETFROM:-0700
TZOFFSETTO:-0700
TZNAME:MST
DTSTART:20290101T000000
END:STANDARD
END:VTIMEZONE
BEGIN:VEVENT
DTSTART;TZID=America/Phoenix:20290910T113000
DTEND;TZID=America/Phoenix:20290910T123000
DTSTAMP:20260425T133821
CREATED:20251126T201214Z
LAST-MODIFIED:20260422T184335Z
UID:10085391-1883734200-1883737800@www.arizonabiltmore.com
SUMMARY:Yoga Stretch
DESCRIPTION:A therapeutic yoga practice combining elements from different styles of yoga; participants move through poses to stretch\, re-align\, and strengthen their bodies.
URL:https://www.arizonabiltmore.com/activities/yoga-stretch-2/2029-09-10/
LOCATION:The Studio
CATEGORIES:Fitness
ATTACH;FMTTYPE=image/jpeg:https://www.arizonabiltmore.com/wp-content/uploads/2021/12/dane-wetton-t1NEMSm1rgI-unsplash-scaled.jpg
END:VEVENT
BEGIN:VEVENT
DTSTART;TZID=America/Phoenix:20290911T090000
DTEND;TZID=America/Phoenix:20290911T100000
DTSTAMP:20260425T133821
CREATED:20260128T192126Z
LAST-MODIFIED:20260422T191420Z
UID:10073862-1883811600-1883815200@www.arizonabiltmore.com
SUMMARY:Yoga Basics
DESCRIPTION:A foundational yoga practice combining postures and breathing techniques to create a healthy body and peaceful mind. Excellent for beginners as well as experienced practitioners. (Adults only\, Ages 16 and 17 when accompanied by an adult)
URL:https://www.arizonabiltmore.com/activities/yoga-basics-2/2029-09-11/
LOCATION:The Studio
CATEGORIES:Fitness
ATTACH;FMTTYPE=image/jpeg:https://www.arizonabiltmore.com/wp-content/uploads/2021/12/Yoga-Pose-large.jpg
END:VEVENT
BEGIN:VEVENT
DTSTART;TZID=America/Phoenix:20290911T113000
DTEND;TZID=America/Phoenix:20290911T123000
DTSTAMP:20260425T133821
CREATED:20251126T201214Z
LAST-MODIFIED:20260422T184335Z
UID:10085392-1883820600-1883824200@www.arizonabiltmore.com
SUMMARY:Yoga Stretch
DESCRIPTION:A therapeutic yoga practice combining elements from different styles of yoga; participants move through poses to stretch\, re-align\, and strengthen their bodies.
URL:https://www.arizonabiltmore.com/activities/yoga-stretch-2/2029-09-11/
LOCATION:The Studio
CATEGORIES:Fitness
ATTACH;FMTTYPE=image/jpeg:https://www.arizonabiltmore.com/wp-content/uploads/2021/12/dane-wetton-t1NEMSm1rgI-unsplash-scaled.jpg
END:VEVENT
BEGIN:VEVENT
DTSTART;TZID=America/Phoenix:20290912T073000
DTEND;TZID=America/Phoenix:20290912T083000
DTSTAMP:20260425T133821
CREATED:20251009T162405Z
LAST-MODIFIED:20260421T230014Z
UID:10077122-1883892600-1883896200@www.arizonabiltmore.com
SUMMARY:Mat Pilates
DESCRIPTION:Find your center and strengthen your body with this full-body\, low-impact workout designed to improve flexibility\, posture\, and core stability. Set in the serene surroundings of the Arizona Biltmore\, our Mat Pilates class focuses on mindful movement and controlled breathing to help you feel balanced and energized. Suitable for all fitness levels\, this guided session will leave you feeling longer\, leaner\, and more aligned—both inside and out.
URL:https://www.arizonabiltmore.com/activities/mat-pilates/2029-09-12/
LOCATION:The Studio
CATEGORIES:Fitness
ATTACH;FMTTYPE=image/jpeg:https://www.arizonabiltmore.com/wp-content/uploads/2021/11/Pilates-large.jpg
END:VEVENT
BEGIN:VEVENT
DTSTART;TZID=America/Phoenix:20290912T103000
DTEND;TZID=America/Phoenix:20290912T113000
DTSTAMP:20260425T133821
CREATED:20251128T181749Z
LAST-MODIFIED:20260422T194256Z
UID:10083142-1883903400-1883907000@www.arizonabiltmore.com
SUMMARY:Hatha Yoga
DESCRIPTION:A foundational yoga practice combining postures and breathing techniques to create a healthy body and peaceful mind. This practice focuses on alignment\, generating strength and flexibility. Excellent for beginners as well as experienced yogis.
URL:https://www.arizonabiltmore.com/activities/hatha-yoga-2-3-2/2029-09-12/
LOCATION:The Studio
CATEGORIES:Fitness
ATTACH;FMTTYPE=image/jpeg:https://www.arizonabiltmore.com/wp-content/uploads/2021/12/Yoga-Pose-large.jpg
END:VEVENT
BEGIN:VEVENT
DTSTART;TZID=America/Phoenix:20290913T090000
DTEND;TZID=America/Phoenix:20290913T100000
DTSTAMP:20260425T133821
CREATED:20260128T192126Z
LAST-MODIFIED:20260422T191420Z
UID:10051572-1883984400-1883988000@www.arizonabiltmore.com
SUMMARY:Yoga Basics
DESCRIPTION:A foundational yoga practice combining postures and breathing techniques to create a healthy body and peaceful mind. Excellent for beginners as well as experienced practitioners. (Adults only\, Ages 16 and 17 when accompanied by an adult)
URL:https://www.arizonabiltmore.com/activities/yoga-basics-2/2029-09-13/
LOCATION:The Studio
CATEGORIES:Fitness
ATTACH;FMTTYPE=image/jpeg:https://www.arizonabiltmore.com/wp-content/uploads/2021/12/Yoga-Pose-large.jpg
END:VEVENT
BEGIN:VEVENT
DTSTART;TZID=America/Phoenix:20290913T113000
DTEND;TZID=America/Phoenix:20290913T123000
DTSTAMP:20260425T133821
CREATED:20251126T201214Z
LAST-MODIFIED:20260422T184335Z
UID:10085393-1883993400-1883997000@www.arizonabiltmore.com
SUMMARY:Yoga Stretch
DESCRIPTION:A therapeutic yoga practice combining elements from different styles of yoga; participants move through poses to stretch\, re-align\, and strengthen their bodies.
URL:https://www.arizonabiltmore.com/activities/yoga-stretch-2/2029-09-13/
LOCATION:The Studio
CATEGORIES:Fitness
ATTACH;FMTTYPE=image/jpeg:https://www.arizonabiltmore.com/wp-content/uploads/2021/12/dane-wetton-t1NEMSm1rgI-unsplash-scaled.jpg
END:VEVENT
BEGIN:VEVENT
DTSTART;TZID=America/Phoenix:20290914T100000
DTEND;TZID=America/Phoenix:20290914T110000
DTSTAMP:20260425T133821
CREATED:20251009T174228Z
LAST-MODIFIED:20260422T195022Z
UID:10052730-1884074400-1884078000@www.arizonabiltmore.com
SUMMARY:Restorative Meditation
DESCRIPTION:Breathwork\, relaxation\, and guided imagery meditation in combination with simple\, restorative poses\, facilitate the deepest levels of peace + healing.
URL:https://www.arizonabiltmore.com/activities/restorative-meditation/2029-09-14/
LOCATION:The Studio
CATEGORIES:Fitness,Spa and wellness
ATTACH;FMTTYPE=image/jpeg:https://www.arizonabiltmore.com/wp-content/uploads/2021/11/group-of-young-people-doing-yoga-on-a-yoga-mat-2021-09-02-14-56-30-utc-scaled.jpg
END:VEVENT
BEGIN:VEVENT
DTSTART;TZID=America/Phoenix:20290914T100000
DTEND;TZID=America/Phoenix:20290914T110000
DTSTAMP:20260425T133821
CREATED:20251126T194627Z
LAST-MODIFIED:20260422T002936Z
UID:10084131-1884074400-1884078000@www.arizonabiltmore.com
SUMMARY:Slow Flow Yoga
DESCRIPTION:This practice guides participants through a series of yoga poses to connect the breath with movement while promoting flexibility\, strength\, and body alignment. All experience levels welcome.
URL:https://www.arizonabiltmore.com/activities/slow-flow-yoga-2/2029-09-14/
LOCATION:The Studio
CATEGORIES:Fitness
ATTACH;FMTTYPE=image/jpeg:https://www.arizonabiltmore.com/wp-content/uploads/2021/11/group-of-young-people-doing-yoga-on-a-yoga-mat-2021-09-02-14-56-30-utc-scaled.jpg
END:VEVENT
BEGIN:VEVENT
DTSTART;TZID=America/Phoenix:20290915T073000
DTEND;TZID=America/Phoenix:20290915T083000
DTSTAMP:20260425T133821
CREATED:20251009T162405Z
LAST-MODIFIED:20260421T230014Z
UID:10077123-1884151800-1884155400@www.arizonabiltmore.com
SUMMARY:Mat Pilates
DESCRIPTION:Find your center and strengthen your body with this full-body\, low-impact workout designed to improve flexibility\, posture\, and core stability. Set in the serene surroundings of the Arizona Biltmore\, our Mat Pilates class focuses on mindful movement and controlled breathing to help you feel balanced and energized. Suitable for all fitness levels\, this guided session will leave you feeling longer\, leaner\, and more aligned—both inside and out.
URL:https://www.arizonabiltmore.com/activities/mat-pilates/2029-09-15/
LOCATION:The Studio
CATEGORIES:Fitness
ATTACH;FMTTYPE=image/jpeg:https://www.arizonabiltmore.com/wp-content/uploads/2021/11/Pilates-large.jpg
END:VEVENT
BEGIN:VEVENT
DTSTART;TZID=America/Phoenix:20290916T090000
DTEND;TZID=America/Phoenix:20290916T100000
DTSTAMP:20260425T133821
CREATED:20260108T165049Z
LAST-MODIFIED:20260422T202515Z
UID:10075462-1884243600-1884247200@www.arizonabiltmore.com
SUMMARY:TheraBand Stretch
DESCRIPTION:Full body stretch from head to toe using the TheraBand.
URL:https://www.arizonabiltmore.com/activities/theraband-stretch-2/2029-09-16/
LOCATION:The Studio
CATEGORIES:Fitness
ATTACH;FMTTYPE=image/jpeg:https://www.arizonabiltmore.com/wp-content/uploads/2025/12/4B7A4779-scaled.jpg
END:VEVENT
BEGIN:VEVENT
DTSTART;TZID=America/Phoenix:20290916T103000
DTEND;TZID=America/Phoenix:20290916T113000
DTSTAMP:20260425T133821
CREATED:20251128T181749Z
LAST-MODIFIED:20260422T194256Z
UID:10085847-1884249000-1884252600@www.arizonabiltmore.com
SUMMARY:Hatha Yoga
DESCRIPTION:A foundational yoga practice combining postures and breathing techniques to create a healthy body and peaceful mind. This practice focuses on alignment\, generating strength and flexibility. Excellent for beginners as well as experienced yogis.
URL:https://www.arizonabiltmore.com/activities/hatha-yoga-2-3-2/2029-09-16/
LOCATION:The Studio
CATEGORIES:Fitness
ATTACH;FMTTYPE=image/jpeg:https://www.arizonabiltmore.com/wp-content/uploads/2021/12/Yoga-Pose-large.jpg
END:VEVENT
BEGIN:VEVENT
DTSTART;TZID=America/Phoenix:20290917T073000
DTEND;TZID=America/Phoenix:20290917T083000
DTSTAMP:20260425T133821
CREATED:20251009T162405Z
LAST-MODIFIED:20260421T230014Z
UID:10077124-1884324600-1884328200@www.arizonabiltmore.com
SUMMARY:Mat Pilates
DESCRIPTION:Find your center and strengthen your body with this full-body\, low-impact workout designed to improve flexibility\, posture\, and core stability. Set in the serene surroundings of the Arizona Biltmore\, our Mat Pilates class focuses on mindful movement and controlled breathing to help you feel balanced and energized. Suitable for all fitness levels\, this guided session will leave you feeling longer\, leaner\, and more aligned—both inside and out.
URL:https://www.arizonabiltmore.com/activities/mat-pilates/2029-09-17/
LOCATION:The Studio
CATEGORIES:Fitness
ATTACH;FMTTYPE=image/jpeg:https://www.arizonabiltmore.com/wp-content/uploads/2021/11/Pilates-large.jpg
END:VEVENT
BEGIN:VEVENT
DTSTART;TZID=America/Phoenix:20290917T100000
DTEND;TZID=America/Phoenix:20290917T110000
DTSTAMP:20260425T133821
CREATED:20251126T194627Z
LAST-MODIFIED:20260422T002936Z
UID:10084132-1884333600-1884337200@www.arizonabiltmore.com
SUMMARY:Slow Flow Yoga
DESCRIPTION:This practice guides participants through a series of yoga poses to connect the breath with movement while promoting flexibility\, strength\, and body alignment. All experience levels welcome.
URL:https://www.arizonabiltmore.com/activities/slow-flow-yoga-2/2029-09-17/
LOCATION:The Studio
CATEGORIES:Fitness
ATTACH;FMTTYPE=image/jpeg:https://www.arizonabiltmore.com/wp-content/uploads/2021/11/group-of-young-people-doing-yoga-on-a-yoga-mat-2021-09-02-14-56-30-utc-scaled.jpg
END:VEVENT
BEGIN:VEVENT
DTSTART;TZID=America/Phoenix:20290917T113000
DTEND;TZID=America/Phoenix:20290917T123000
DTSTAMP:20260425T133821
CREATED:20251126T201214Z
LAST-MODIFIED:20260422T184335Z
UID:10085394-1884339000-1884342600@www.arizonabiltmore.com
SUMMARY:Yoga Stretch
DESCRIPTION:A therapeutic yoga practice combining elements from different styles of yoga; participants move through poses to stretch\, re-align\, and strengthen their bodies.
URL:https://www.arizonabiltmore.com/activities/yoga-stretch-2/2029-09-17/
LOCATION:The Studio
CATEGORIES:Fitness
ATTACH;FMTTYPE=image/jpeg:https://www.arizonabiltmore.com/wp-content/uploads/2021/12/dane-wetton-t1NEMSm1rgI-unsplash-scaled.jpg
END:VEVENT
BEGIN:VEVENT
DTSTART;TZID=America/Phoenix:20290918T090000
DTEND;TZID=America/Phoenix:20290918T100000
DTSTAMP:20260425T133821
CREATED:20260128T192126Z
LAST-MODIFIED:20260422T191420Z
UID:10073863-1884416400-1884420000@www.arizonabiltmore.com
SUMMARY:Yoga Basics
DESCRIPTION:A foundational yoga practice combining postures and breathing techniques to create a healthy body and peaceful mind. Excellent for beginners as well as experienced practitioners. (Adults only\, Ages 16 and 17 when accompanied by an adult)
URL:https://www.arizonabiltmore.com/activities/yoga-basics-2/2029-09-18/
LOCATION:The Studio
CATEGORIES:Fitness
ATTACH;FMTTYPE=image/jpeg:https://www.arizonabiltmore.com/wp-content/uploads/2021/12/Yoga-Pose-large.jpg
END:VEVENT
BEGIN:VEVENT
DTSTART;TZID=America/Phoenix:20290918T113000
DTEND;TZID=America/Phoenix:20290918T123000
DTSTAMP:20260425T133821
CREATED:20251126T201214Z
LAST-MODIFIED:20260422T184335Z
UID:10085395-1884425400-1884429000@www.arizonabiltmore.com
SUMMARY:Yoga Stretch
DESCRIPTION:A therapeutic yoga practice combining elements from different styles of yoga; participants move through poses to stretch\, re-align\, and strengthen their bodies.
URL:https://www.arizonabiltmore.com/activities/yoga-stretch-2/2029-09-18/
LOCATION:The Studio
CATEGORIES:Fitness
ATTACH;FMTTYPE=image/jpeg:https://www.arizonabiltmore.com/wp-content/uploads/2021/12/dane-wetton-t1NEMSm1rgI-unsplash-scaled.jpg
END:VEVENT
BEGIN:VEVENT
DTSTART;TZID=America/Phoenix:20290919T073000
DTEND;TZID=America/Phoenix:20290919T083000
DTSTAMP:20260425T133821
CREATED:20251009T162405Z
LAST-MODIFIED:20260421T230014Z
UID:10077125-1884497400-1884501000@www.arizonabiltmore.com
SUMMARY:Mat Pilates
DESCRIPTION:Find your center and strengthen your body with this full-body\, low-impact workout designed to improve flexibility\, posture\, and core stability. Set in the serene surroundings of the Arizona Biltmore\, our Mat Pilates class focuses on mindful movement and controlled breathing to help you feel balanced and energized. Suitable for all fitness levels\, this guided session will leave you feeling longer\, leaner\, and more aligned—both inside and out.
URL:https://www.arizonabiltmore.com/activities/mat-pilates/2029-09-19/
LOCATION:The Studio
CATEGORIES:Fitness
ATTACH;FMTTYPE=image/jpeg:https://www.arizonabiltmore.com/wp-content/uploads/2021/11/Pilates-large.jpg
END:VEVENT
BEGIN:VEVENT
DTSTART;TZID=America/Phoenix:20290919T103000
DTEND;TZID=America/Phoenix:20290919T113000
DTSTAMP:20260425T133821
CREATED:20251128T181749Z
LAST-MODIFIED:20260422T194256Z
UID:10083143-1884508200-1884511800@www.arizonabiltmore.com
SUMMARY:Hatha Yoga
DESCRIPTION:A foundational yoga practice combining postures and breathing techniques to create a healthy body and peaceful mind. This practice focuses on alignment\, generating strength and flexibility. Excellent for beginners as well as experienced yogis.
URL:https://www.arizonabiltmore.com/activities/hatha-yoga-2-3-2/2029-09-19/
LOCATION:The Studio
CATEGORIES:Fitness
ATTACH;FMTTYPE=image/jpeg:https://www.arizonabiltmore.com/wp-content/uploads/2021/12/Yoga-Pose-large.jpg
END:VEVENT
BEGIN:VEVENT
DTSTART;TZID=America/Phoenix:20290920T090000
DTEND;TZID=America/Phoenix:20290920T100000
DTSTAMP:20260425T133821
CREATED:20260128T192126Z
LAST-MODIFIED:20260422T191420Z
UID:10051574-1884589200-1884592800@www.arizonabiltmore.com
SUMMARY:Yoga Basics
DESCRIPTION:A foundational yoga practice combining postures and breathing techniques to create a healthy body and peaceful mind. Excellent for beginners as well as experienced practitioners. (Adults only\, Ages 16 and 17 when accompanied by an adult)
URL:https://www.arizonabiltmore.com/activities/yoga-basics-2/2029-09-20/
LOCATION:The Studio
CATEGORIES:Fitness
ATTACH;FMTTYPE=image/jpeg:https://www.arizonabiltmore.com/wp-content/uploads/2021/12/Yoga-Pose-large.jpg
END:VEVENT
BEGIN:VEVENT
DTSTART;TZID=America/Phoenix:20290920T113000
DTEND;TZID=America/Phoenix:20290920T123000
DTSTAMP:20260425T133821
CREATED:20251126T201214Z
LAST-MODIFIED:20260422T184335Z
UID:10085396-1884598200-1884601800@www.arizonabiltmore.com
SUMMARY:Yoga Stretch
DESCRIPTION:A therapeutic yoga practice combining elements from different styles of yoga; participants move through poses to stretch\, re-align\, and strengthen their bodies.
URL:https://www.arizonabiltmore.com/activities/yoga-stretch-2/2029-09-20/
LOCATION:The Studio
CATEGORIES:Fitness
ATTACH;FMTTYPE=image/jpeg:https://www.arizonabiltmore.com/wp-content/uploads/2021/12/dane-wetton-t1NEMSm1rgI-unsplash-scaled.jpg
END:VEVENT
BEGIN:VEVENT
DTSTART;TZID=America/Phoenix:20290921T100000
DTEND;TZID=America/Phoenix:20290921T110000
DTSTAMP:20260425T133821
CREATED:20251009T174228Z
LAST-MODIFIED:20260422T195022Z
UID:10052731-1884679200-1884682800@www.arizonabiltmore.com
SUMMARY:Restorative Meditation
DESCRIPTION:Breathwork\, relaxation\, and guided imagery meditation in combination with simple\, restorative poses\, facilitate the deepest levels of peace + healing.
URL:https://www.arizonabiltmore.com/activities/restorative-meditation/2029-09-21/
LOCATION:The Studio
CATEGORIES:Fitness,Spa and wellness
ATTACH;FMTTYPE=image/jpeg:https://www.arizonabiltmore.com/wp-content/uploads/2021/11/group-of-young-people-doing-yoga-on-a-yoga-mat-2021-09-02-14-56-30-utc-scaled.jpg
END:VEVENT
BEGIN:VEVENT
DTSTART;TZID=America/Phoenix:20290921T100000
DTEND;TZID=America/Phoenix:20290921T110000
DTSTAMP:20260425T133821
CREATED:20251126T194627Z
LAST-MODIFIED:20260422T002936Z
UID:10084133-1884679200-1884682800@www.arizonabiltmore.com
SUMMARY:Slow Flow Yoga
DESCRIPTION:This practice guides participants through a series of yoga poses to connect the breath with movement while promoting flexibility\, strength\, and body alignment. All experience levels welcome.
URL:https://www.arizonabiltmore.com/activities/slow-flow-yoga-2/2029-09-21/
LOCATION:The Studio
CATEGORIES:Fitness
ATTACH;FMTTYPE=image/jpeg:https://www.arizonabiltmore.com/wp-content/uploads/2021/11/group-of-young-people-doing-yoga-on-a-yoga-mat-2021-09-02-14-56-30-utc-scaled.jpg
END:VEVENT
BEGIN:VEVENT
DTSTART;TZID=America/Phoenix:20290922T073000
DTEND;TZID=America/Phoenix:20290922T083000
DTSTAMP:20260425T133821
CREATED:20251009T162405Z
LAST-MODIFIED:20260421T230014Z
UID:10077126-1884756600-1884760200@www.arizonabiltmore.com
SUMMARY:Mat Pilates
DESCRIPTION:Find your center and strengthen your body with this full-body\, low-impact workout designed to improve flexibility\, posture\, and core stability. Set in the serene surroundings of the Arizona Biltmore\, our Mat Pilates class focuses on mindful movement and controlled breathing to help you feel balanced and energized. Suitable for all fitness levels\, this guided session will leave you feeling longer\, leaner\, and more aligned—both inside and out.
URL:https://www.arizonabiltmore.com/activities/mat-pilates/2029-09-22/
LOCATION:The Studio
CATEGORIES:Fitness
ATTACH;FMTTYPE=image/jpeg:https://www.arizonabiltmore.com/wp-content/uploads/2021/11/Pilates-large.jpg
END:VEVENT
BEGIN:VEVENT
DTSTART;TZID=America/Phoenix:20290923T090000
DTEND;TZID=America/Phoenix:20290923T100000
DTSTAMP:20260425T133821
CREATED:20260108T165049Z
LAST-MODIFIED:20260422T202515Z
UID:10075463-1884848400-1884852000@www.arizonabiltmore.com
SUMMARY:TheraBand Stretch
DESCRIPTION:Full body stretch from head to toe using the TheraBand.
URL:https://www.arizonabiltmore.com/activities/theraband-stretch-2/2029-09-23/
LOCATION:The Studio
CATEGORIES:Fitness
ATTACH;FMTTYPE=image/jpeg:https://www.arizonabiltmore.com/wp-content/uploads/2025/12/4B7A4779-scaled.jpg
END:VEVENT
BEGIN:VEVENT
DTSTART;TZID=America/Phoenix:20290923T103000
DTEND;TZID=America/Phoenix:20290923T113000
DTSTAMP:20260425T133821
CREATED:20251128T181749Z
LAST-MODIFIED:20260422T194256Z
UID:10085848-1884853800-1884857400@www.arizonabiltmore.com
SUMMARY:Hatha Yoga
DESCRIPTION:A foundational yoga practice combining postures and breathing techniques to create a healthy body and peaceful mind. This practice focuses on alignment\, generating strength and flexibility. Excellent for beginners as well as experienced yogis.
URL:https://www.arizonabiltmore.com/activities/hatha-yoga-2-3-2/2029-09-23/
LOCATION:The Studio
CATEGORIES:Fitness
ATTACH;FMTTYPE=image/jpeg:https://www.arizonabiltmore.com/wp-content/uploads/2021/12/Yoga-Pose-large.jpg
END:VEVENT
BEGIN:VEVENT
DTSTART;TZID=America/Phoenix:20290924T073000
DTEND;TZID=America/Phoenix:20290924T083000
DTSTAMP:20260425T133821
CREATED:20251009T162405Z
LAST-MODIFIED:20260421T230014Z
UID:10077127-1884929400-1884933000@www.arizonabiltmore.com
SUMMARY:Mat Pilates
DESCRIPTION:Find your center and strengthen your body with this full-body\, low-impact workout designed to improve flexibility\, posture\, and core stability. Set in the serene surroundings of the Arizona Biltmore\, our Mat Pilates class focuses on mindful movement and controlled breathing to help you feel balanced and energized. Suitable for all fitness levels\, this guided session will leave you feeling longer\, leaner\, and more aligned—both inside and out.
URL:https://www.arizonabiltmore.com/activities/mat-pilates/2029-09-24/
LOCATION:The Studio
CATEGORIES:Fitness
ATTACH;FMTTYPE=image/jpeg:https://www.arizonabiltmore.com/wp-content/uploads/2021/11/Pilates-large.jpg
END:VEVENT
BEGIN:VEVENT
DTSTART;TZID=America/Phoenix:20290924T100000
DTEND;TZID=America/Phoenix:20290924T110000
DTSTAMP:20260425T133821
CREATED:20251126T194627Z
LAST-MODIFIED:20260422T002936Z
UID:10084134-1884938400-1884942000@www.arizonabiltmore.com
SUMMARY:Slow Flow Yoga
DESCRIPTION:This practice guides participants through a series of yoga poses to connect the breath with movement while promoting flexibility\, strength\, and body alignment. All experience levels welcome.
URL:https://www.arizonabiltmore.com/activities/slow-flow-yoga-2/2029-09-24/
LOCATION:The Studio
CATEGORIES:Fitness
ATTACH;FMTTYPE=image/jpeg:https://www.arizonabiltmore.com/wp-content/uploads/2021/11/group-of-young-people-doing-yoga-on-a-yoga-mat-2021-09-02-14-56-30-utc-scaled.jpg
END:VEVENT
BEGIN:VEVENT
DTSTART;TZID=America/Phoenix:20290924T113000
DTEND;TZID=America/Phoenix:20290924T123000
DTSTAMP:20260425T133821
CREATED:20251126T201214Z
LAST-MODIFIED:20260422T184335Z
UID:10085397-1884943800-1884947400@www.arizonabiltmore.com
SUMMARY:Yoga Stretch
DESCRIPTION:A therapeutic yoga practice combining elements from different styles of yoga; participants move through poses to stretch\, re-align\, and strengthen their bodies.
URL:https://www.arizonabiltmore.com/activities/yoga-stretch-2/2029-09-24/
LOCATION:The Studio
CATEGORIES:Fitness
ATTACH;FMTTYPE=image/jpeg:https://www.arizonabiltmore.com/wp-content/uploads/2021/12/dane-wetton-t1NEMSm1rgI-unsplash-scaled.jpg
END:VEVENT
BEGIN:VEVENT
DTSTART;TZID=America/Phoenix:20290925T090000
DTEND;TZID=America/Phoenix:20290925T100000
DTSTAMP:20260425T133821
CREATED:20260128T192126Z
LAST-MODIFIED:20260422T191420Z
UID:10073864-1885021200-1885024800@www.arizonabiltmore.com
SUMMARY:Yoga Basics
DESCRIPTION:A foundational yoga practice combining postures and breathing techniques to create a healthy body and peaceful mind. Excellent for beginners as well as experienced practitioners. (Adults only\, Ages 16 and 17 when accompanied by an adult)
URL:https://www.arizonabiltmore.com/activities/yoga-basics-2/2029-09-25/
LOCATION:The Studio
CATEGORIES:Fitness
ATTACH;FMTTYPE=image/jpeg:https://www.arizonabiltmore.com/wp-content/uploads/2021/12/Yoga-Pose-large.jpg
END:VEVENT
END:VCALENDAR